BEGIN:VCALENDAR
VERSION:2.0
PRODID:-//ChamberMaster//Event Calendar 2.0//EN
METHOD:PUBLISH
X-PUBLISHED-TTL:P3D
REFRESH-INTERVAL:P3D
CALSCALE:GREGORIAN
BEGIN:VEVENT
DTSTART:20191030T230000Z
DTEND:20191031T003000Z
X-MICROSOFT-CDO-ALLDAYEVENT:FALSE
SUMMARY:Women4Women Mentoring Program - Oct. 30
DESCRIPTION:Self-development: Finding professional inspiration and adding skills\n\n\n\nThe Richardson Chamber Women in Leadership Women4Women peer-mentoring program is designed to provide cross-generational professional support to women at every stage of their career. \n\n\n\nJoin us for an interactive small-group session for sharing favorite resources for professional inspiration and learning.  Ideas can range from:\n\n\n	Career-oriented books or magazines\n	Thought-provoking podcasts\n	Professional/networking groups\n	Mobile apps you use \n	Online or in-person classes\n	People\, companies\, or organizations you follow on social media\n\nCome ready to share your ideas\, or just listen and learn - it's as interactive as you want it to be.  \n\n\n\nWe will have sips and snacks\, but feel free to bring some to share if you'd like.
X-ALT-DESC;FMTTYPE=text/html:<h2><font color="#000000"><span style="font-size: 14px\;"><b>Self-development: Finding professional inspiration and adding skills</b></span></font></h2>\n\n<p><br />\n<span style="color: rgb(0\, 0\, 0)\;  line-height: normal\;">The Richardson Chamber Women in Leadership&nbsp\;Women4Women peer-mentoring program is designed to provide cross-generational professional support to women at every stage of their career.&nbsp\;</span><br style="color: rgb(0\, 0\, 0)\; font-family: Arial\, Helvetica\, sans-serif\; font-size: 13.3333px\; line-height: normal\;" />\n<br style="color: rgb(0\, 0\, 0)\;  line-height: normal\;" />\n<font color="#000000">Join us for an interactive small-group session for sharing favorite resources for professional inspiration and learning.&nbsp\; Ideas can range from:</font></p>\n\n<ul>\n	<li><font color="#000000">Career-oriented books or magazines</font></li>\n	<li><font color="#000000">Thought-provoking podcasts</font></li>\n	<li><font color="#000000">Professional/networking groups</font></li>\n	<li><font color="#000000">Mobile apps you use&nbsp\;</font></li>\n	<li><font color="#000000">Online or&nbsp\;in-person classes</font></li>\n	<li><font color="#000000">People\, companies\, or organizations you follow on social media</font></li>\n</ul>\n<font color="#000000">Come ready to share your ideas\, or just listen and learn - it&#39\;s as interactive as you want it to be.&nbsp\;&nbsp\;<br />\n<br />\nWe will have sips and snacks\, but feel free to bring some to share if you&#39\;d like.&nbsp\;&nbsp\; </font>
LOCATION:Richardson Chamber of Commerce Board Room 411 Belle Grove Dr. Richardson\, 75080
UID:e.1719.7570
SEQUENCE:3
DTSTAMP:20260420T120103Z
URL:https://business.richardsonchamber.com/events/details/women4women-mentoring-program-oct-30-7570
END:VEVENT

END:VCALENDAR
