BEGIN:VCALENDAR
VERSION:2.0
PRODID:-//ChamberMaster//Event Calendar 2.0//EN
METHOD:PUBLISH
X-PUBLISHED-TTL:P3D
REFRESH-INTERVAL:P3D
CALSCALE:GREGORIAN
BEGIN:VEVENT
DTSTART:20210129T180000Z
DTEND:20210129T193000Z
X-MICROSOFT-CDO-ALLDAYEVENT:FALSE
SUMMARY:*Virtual Small Business Town Hall\, Jan. 29
DESCRIPTION:Join Rep. Colin Allred for a discussion on Friday\, January 29 at 12:00 pm\, for the small business community in Texas' 32nd Congressional District. Congressman Allred will be joined by a representative from US Small Business Administration as well as the lending community. The panel will give an update on assistance available to small businesses as a result of the ongoing coronavirus pandemic and answer your questions on recent changes to COVID-related government loans. Please RSVP below to receive Zoom meeting information and submit a question for our panel.\n\n\n\nhttps://www.eventbrite.com/e/rep-allreds-small-business-town-hall-tickets-138012817051\n\n\n\n\n\n COVID-19 Small Business resource Guide
X-ALT-DESC;FMTTYPE=text/html:<span font-size:="" helvetica="" letter-spacing:="" neue="" style="color: rgb(111\, 114\, 135)\; font-family: ">Join Rep. Colin Allred for a discussion on Friday\, January 29 at 12:00 pm\, for the small business community in Texas&rsquo\; 32nd Congressional District. Congressman Allred will be joined by a representative from US Small Business Administration as well as the lending community. The panel will give an update on assistance available to small businesses as a result of the ongoing coronavirus pandemic and answer your questions on recent changes to COVID-related government loans. Please RSVP below to receive Zoom meeting information and submit a question for our panel.<br />\n<br />\n<a href="https://www.eventbrite.com/e/rep-allreds-small-business-town-hall-tickets-138012817051">https://www.eventbrite.com/e/rep-allreds-small-business-town-hall-tickets-138012817051</a><br />\n<br />\n<br />\n<a href="https://chambermaster.blob.core.windows.net/userfiles/UserFiles/chambers/1719/File/PDF/COVID-19SmallBusinessResourceGuide.pdf">&#8203\;COVID-19 Small Business resource Guide</a> </span>
LOCATION:Online
UID:e.1719.8675
SEQUENCE:3
DTSTAMP:20260422T102952Z
URL:https://business.richardsonchamber.com/events/details/virtual-small-business-town-hall-jan-29-8675
END:VEVENT

END:VCALENDAR
