BEGIN:VCALENDAR
VERSION:2.0
PRODID:-//ChamberMaster//Event Calendar 2.0//EN
METHOD:PUBLISH
X-PUBLISHED-TTL:P3D
REFRESH-INTERVAL:P3D
CALSCALE:GREGORIAN
BEGIN:VEVENT
DTSTART:20201111T133000Z
DTEND:20201112T000000Z
X-MICROSOFT-CDO-ALLDAYEVENT:FALSE
SUMMARY:*Veterans Day\, Meineke Car\, Nov. 11
DESCRIPTION:Thank you for your service! \n\nMEINEKE CAR CARE OF RICHARDSON will provide free oil changes for Veterans on Wednesday\, November 11\, 2020. No appointments taken. Show your military ID at time of service.\n\nQuilt of Valor Foundation (QOVF.org) will be present from 1-2 PM to wrap four selected veterans.
X-ALT-DESC;FMTTYPE=text/html:<h1><span style="color:#000000"><big>Thank you for your service! </big><br />\n<span style="font-size:22px"><span style="font-family:tahoma">MEINEKE CAR CARE OF RICHARDSON</span>&nbsp\;will provide free oil changes for Veterans on Wednesday\, November 11\, 2020. No appointments taken. Show your military ID at time of service.</span><br />\nQuilt of Valor Foundation (QOVF.org) will be present from 1-2 PM to wrap four selected veterans.</span></h1>\n&nbsp\;\n\n<p>&nbsp\;</p>\n
LOCATION:Meineke Car Care Center 342 S. Central Expressway Richardson\, Texas 75080
UID:e.1719.8604
SEQUENCE:3
DTSTAMP:20260422T072424Z
URL:https://business.richardsonchamber.com/events/details/veterans-day-meineke-car-nov-11-8604
END:VEVENT

END:VCALENDAR
