BEGIN:VCALENDAR
VERSION:2.0
PRODID:-//ChamberMaster//Event Calendar 2.0//EN
METHOD:PUBLISH
X-PUBLISHED-TTL:P3D
REFRESH-INTERVAL:P3D
CALSCALE:GREGORIAN
BEGIN:VEVENT
DTSTART:20200826T150000Z
DTEND:20200826T160000Z
X-MICROSOFT-CDO-ALLDAYEVENT:FALSE
SUMMARY:*US India Chamber\, Sen. Ted Cruz\, Aug. 26
DESCRIPTION:The US India Chamber of Commerce DFW invites you to join Senator Ted Cruz for a virtual Town Hall Meeting on Wednesday\, August 26 at 10:00 AM. You can register for the event using the link below. \n\n Senator Cruz will provide a COVID-19 Senate Update with comments on the economy\, energy\, and technology. He will also provide some insights into what the Senate is considering in terms of additional relief legislation.  \n\nUnited States Senator Ted Cruz was elected as the 34th U.S. Senator from Texas in 2012. Mr. Cruz serves on the Committee on Commerce\, Science\, and Transportation where he Chairs the Subcommittee on Aviation & Space\, the Committee on the Judiciary and serves as Chairman of the Subcommittee on the Constitution\, the Joint Economic Committee\, Committee on Foreign Relations\, and the Committee on Rules and Administration.
X-ALT-DESC;FMTTYPE=text/html:<p><span style="font-size:12px\;"><span century="">The US India Chamber of Commerce DFW invites you to join Senator Ted Cruz for a virtual Town Hall Meeting on Wednesday\, August 26 at 10:00 AM.&nbsp\;You can register for the event using the </span><span new="" times=""><a href="http://r20.rs6.net/tn.jsp?f=001VZ25XK9oTws5AyjZqD7AGXsovMf7BVmzpnxjG7Dktgrher9GyRiE9eBjBzesDL15acsLyGe1MtVa1q7OTJV4mHi6hOCD07IhKcp3l7IvXtUwMHjnBn_bshTRrrjrJISH7wwGgnyd3sE7p4QKtDT1BUZ1xqxJ2SzOJ758RHeuECENvwIFjIDmjmb7AD_A7Jtet8YrE6O5Gpw=&amp\;c=xOdOPdZYPwvpPmIYqxGhSbDnQCEonksbbXUFCl6nCLhEmaYqyamvyA==&amp\;ch=RJZMUWboIu58vhpfW8W0X21e0LRby_vCl5KL8Ed_bJIW_KgByeyFcQ==" target="_blank"><b><span century="">link</span></b></a></span><span century=""> below. </span></span></p>\n\n<p><span style="font-size:12px\;"><span century="">&nbsp\;Senator Cruz will provide a COVID-19 Senate Update with comments on the economy\, energy\, and technology. He will also provide some insights into what the Senate is considering in terms of additional relief legislation.&nbsp\;&nbsp\;</span></span></p>\n\n<p><span style="font-size:12px\;"><span century="">United States Senator Ted Cruz was elected as the 34th U.S. Senator from Texas in 2012.&nbsp\;Mr. Cruz serves on the Committee on Commerce\, Science\, and Transportation where he Chairs the Subcommittee on Aviation &amp\; Space\, the Committee on the Judiciary and serves as Chairman of the Subcommittee on the Constitution\, the Joint Economic Committee\, Committee on Foreign Relations\, and the Committee on Rules and Administration.</span></span><span style="font-size:12.0pt\;font-family:"> </span></p>\n
LOCATION:Virtual Zoom Event Webinar Link
UID:e.1719.8565
SEQUENCE:3
DTSTAMP:20260422T040336Z
URL:https://business.richardsonchamber.com/events/details/us-india-chamber-sen-ted-cruz-aug-26-8565
END:VEVENT

END:VCALENDAR
