BEGIN:VCALENDAR
VERSION:2.0
PRODID:-//ChamberMaster//Event Calendar 2.0//EN
METHOD:PUBLISH
X-PUBLISHED-TTL:P3D
REFRESH-INTERVAL:P3D
CALSCALE:GREGORIAN
BEGIN:VEVENT
DTSTART:20201020T130000Z
DTEND:20201020T143000Z
X-MICROSOFT-CDO-ALLDAYEVENT:FALSE
SUMMARY:*US election impacts US-Japan relations--Oct. 20
DESCRIPTION:The 2020 U.S. Presidential Election: How Will It Affect U.S.-Japan Relations?\n\n(Presented by the Japan Society)\n\n\n\nThe 2020 U.S. presidential election is right around the corner\, with Joe Biden as the Democratic nominee facing the incumbent president\, Donald Trump\, in November. From the coronavirus pandemic\, unemployment and the economic downturn\, to protests against police brutality and racial injustice\, many critical issues continue to color the 2020 campaign. What is the current political landscape and how will the outcome of the presidential election affect major domestic and international issues\, including U.S.-Japan relations? In this webinar\, a panel of experts from Japan and the United States zero in on the emerging themes of the presidential election\, discussing the possible outcome and its impact on businesses and U.S.-Japan relations.\n\n\n\nSpeakers:\n\nAnne Gearan\, White House Correspondent\, The Washington Post\nToshihiro Nakayama\, Professor of American Politics and Foreign Policy\, Faculty of Policy Management\, Keio University\; Senior Adjunct Fellow\, Japan Institute of International Affairs\n\nCandi Wolff\, Managing Director & Head of Global Government Affairs\, Citi\n\nModerator:\n\nDr. Joshua W. Walker\, President and CEO\, Japan Society
X-ALT-DESC;FMTTYPE=text/html:<span style="display: inline !important\; float: none\; background-color: rgb(255\, 255\, 255)\; color: rgb(68\, 68\, 68)\; font-family: &quot\;Open Sans&quot\;\,Arial\,Helvetica\,sans-serif\; font-size: 1.7em\; font-size-adjust: none\; font-stretch: inherit\; font-style: inherit\; font-variant: inherit\; font-weight: 700\; letter-spacing: normal\; line-height: 1\; orphans: 2\; text-align: left\; text-decoration: none\; text-indent: 0px\; text-transform: none\; -webkit-text-stroke-width: 0px\; white-space: normal\; word-spacing: 0px\;"><span style="font-size:12px\;"><span style="font-size:14px\;">The 2020 U.S. Presidential Election: How Will It Affect U.S.-Japan Relations?</span></span><br />\n<em><span style="font-size:12px\;">(Presented by the Japan Society)</span></em></span><br />\n<br />\n<span style="display: inline !important\; float: none\; background-color: rgb(255\, 255\, 255)\; color: rgb(68\, 68\, 68)\; font-family: inherit\; font-size: inherit\; font-size-adjust: none\; font-stretch: inherit\; font-style: inherit\; font-variant: inherit\; font-weight: inherit\; letter-spacing: normal\; line-height: 1.7\; orphans: 2\; text-align: left\; text-decoration: none\; text-indent: 0px\; text-transform: none\; -webkit-text-stroke-width: 0px\; white-space: normal\; word-spacing: 0px\;">The 2020 U.S. presidential election is right around the corner\, with Joe Biden as the Democratic nominee facing the incumbent president\, Donald Trump\, in November. From the coronavirus pandemic\, unemployment and the economic downturn\, to protests against police brutality and racial injustice\, many critical issues continue to color the 2020 campaign. What is the current political landscape and how will the outcome of the presidential election affect major domestic and international issues\, including U.S.-Japan relations? In this webinar\, a panel of experts from Japan and the United States zero in on the emerging themes of the presidential election\, discussing the possible outcome and its impact on businesses and U.S.-Japan relations.<br />\n<br />\n<em><strong>Speakers:</strong></em></span><br />\n<strong style="border-bottom-color: currentColor\; border-bottom-style: none\; border-bottom-width: 0px\; border-image-outset: 0\; border-image-repeat: stretch\; border-image-slice: 100%\; border-image-source: none\; border-image-width: 1\; border-left-color: currentColor\; border-left-style: none\; border-left-width: 0px\; border-right-color: currentColor\; border-right-style: none\; border-right-width: 0px\; border-top-color: currentColor\; border-top-style: none\; border-top-width: 0px\; font-family: inherit\; font-size: inherit\; font-size-adjust: none\; font-stretch: inherit\; font-style: inherit\; font-variant: inherit\; font-weight: bold\; line-height: inherit\; margin-bottom: 0px\; margin-left: 0px\; margin-right: 0px\; margin-top: 0px\; padding-bottom: 0px\; padding-left: 0px\; padding-right: 0px\; padding-top: 0px\; vertical-align: baseline\;">Anne Gearan</strong>\, White House Correspondent\,&nbsp\;<em style="border-bottom-color: currentColor\; border-bottom-style: none\; border-bottom-width: 0px\; border-image-outset: 0\; border-image-repeat: stretch\; border-image-slice: 100%\; border-image-source: none\; border-image-width: 1\; border-left-color: currentColor\; border-left-style: none\; border-left-width: 0px\; border-right-color: currentColor\; border-right-style: none\; border-right-width: 0px\; border-top-color: currentColor\; border-top-style: none\; border-top-width: 0px\; font-family: inherit\; font-size: inherit\; font-size-adjust: none\; font-stretch: inherit\; font-style: italic\; font-variant: inherit\; font-weight: inherit\; line-height: inherit\; margin-bottom: 0px\; margin-left: 0px\; margin-right: 0px\; margin-top: 0px\; padding-bottom: 0px\; padding-left: 0px\; padding-right: 0px\; padding-top: 0px\; vertical-align: baseline\;">The Washington Post</em>\n<p style="border-bottom-color: currentColor\; border-bottom-style: none\; border-bottom-width: 0px\; border-image-outset: 0\; border-image-repeat: stretch\; border-image-slice: 100%\; border-image-source: none\; border-image-width: 1\; border-left-color: currentColor\; border-left-style: none\; border-left-width: 0px\; border-right-color: currentColor\; border-right-style: none\; border-right-width: 0px\; border-top-color: currentColor\; border-top-style: none\; border-top-width: 0px\; color: rgb(68\, 68\, 68)\; font-family: inherit\; font-size: inherit\; font-size-adjust: none\; font-stretch: inherit\; font-style: inherit\; font-variant: inherit\; font-weight: inherit\; letter-spacing: normal\; line-height: 1.7\; margin-bottom: 10px\; margin-left: 0px\; margin-right: 0px\; margin-top: 0px\; orphans: 2\; padding-bottom: 0px\; padding-left: 0px\; padding-right: 0px\; padding-top: 0px\; text-align: left\; text-decoration: none\; text-indent: 0px\; text-transform: none\; vertical-align: baseline\; -webkit-text-stroke-width: 0px\; white-space: normal\; word-spacing: 0px\;"><strong style="border-bottom-color: currentColor\; border-bottom-style: none\; border-bottom-width: 0px\; border-image-outset: 0\; border-image-repeat: stretch\; border-image-slice: 100%\; border-image-source: none\; border-image-width: 1\; border-left-color: currentColor\; border-left-style: none\; border-left-width: 0px\; border-right-color: currentColor\; border-right-style: none\; border-right-width: 0px\; border-top-color: currentColor\; border-top-style: none\; border-top-width: 0px\; font-family: inherit\; font-size: inherit\; font-size-adjust: none\; font-stretch: inherit\; font-style: inherit\; font-variant: inherit\; font-weight: bold\; line-height: inherit\; margin-bottom: 0px\; margin-left: 0px\; margin-right: 0px\; margin-top: 0px\; padding-bottom: 0px\; padding-left: 0px\; padding-right: 0px\; padding-top: 0px\; vertical-align: baseline\;">Toshihiro Nakayama</strong>\, Professor of American Politics and Foreign Policy\, Faculty of Policy Management\, Keio University\; Senior Adjunct Fellow\, Japan Institute of International Affairs<br />\n<strong style="border-bottom-color: currentColor\; border-bottom-style: none\; border-bottom-width: 0px\; border-image-outset: 0\; border-image-repeat: stretch\; border-image-slice: 100%\; border-image-source: none\; border-image-width: 1\; border-left-color: currentColor\; border-left-style: none\; border-left-width: 0px\; border-right-color: currentColor\; border-right-style: none\; border-right-width: 0px\; border-top-color: currentColor\; border-top-style: none\; border-top-width: 0px\; font-family: inherit\; font-size: inherit\; font-size-adjust: none\; font-stretch: inherit\; font-style: inherit\; font-variant: inherit\; font-weight: bold\; line-height: inherit\; margin-bottom: 0px\; margin-left: 0px\; margin-right: 0px\; margin-top: 0px\; padding-bottom: 0px\; padding-left: 0px\; padding-right: 0px\; padding-top: 0px\; vertical-align: baseline\;">Candi Wolff</strong>\, Managing Director &amp\; Head of Global Government Affairs\, Citi</p>\n\n<p style="border-bottom-color: currentColor\; border-bottom-style: none\; border-bottom-width: 0px\; border-image-outset: 0\; border-image-repeat: stretch\; border-image-slice: 100%\; border-image-source: none\; border-image-width: 1\; border-left-color: currentColor\; border-left-style: none\; border-left-width: 0px\; border-right-color: currentColor\; border-right-style: none\; border-right-width: 0px\; border-top-color: currentColor\; border-top-style: none\; border-top-width: 0px\; color: rgb(68\, 68\, 68)\; font-family: inherit\; font-size: inherit\; font-size-adjust: none\; font-stretch: inherit\; font-style: inherit\; font-variant: inherit\; font-weight: inherit\; letter-spacing: normal\; line-height: 1.7\; margin-bottom: 10px\; margin-left: 0px\; margin-right: 0px\; margin-top: 0px\; orphans: 2\; padding-bottom: 0px\; padding-left: 0px\; padding-right: 0px\; padding-top: 0px\; text-align: left\; text-decoration: none\; text-indent: 0px\; text-transform: none\; vertical-align: baseline\; -webkit-text-stroke-width: 0px\; white-space: normal\; word-spacing: 0px\;"><em><strong style="border-bottom-color: currentColor\; border-bottom-style: none\; border-bottom-width: 0px\; border-image-outset: 0\; border-image-repeat: stretch\; border-image-slice: 100%\; border-image-source: none\; border-image-width: 1\; border-left-color: currentColor\; border-left-style: none\; border-left-width: 0px\; border-right-color: currentColor\; border-right-style: none\; border-right-width: 0px\; border-top-color: currentColor\; border-top-style: none\; border-top-width: 0px\; font-family: inherit\; font-size: inherit\; font-size-adjust: none\; font-stretch: inherit\; font-style: inherit\; font-variant: inherit\; font-weight: bold\; line-height: inherit\; margin-bottom: 0px\; margin-left: 0px\; margin-right: 0px\; margin-top: 0px\; padding-bottom: 0px\; padding-left: 0px\; padding-right: 0px\; padding-top: 0px\; vertical-align: baseline\;">Moderator:</strong></em><br />\n<strong style="border-bottom-color: currentColor\; border-bottom-style: none\; border-bottom-width: 0px\; border-image-outset: 0\; border-image-repeat: stretch\; border-image-slice: 100%\; border-image-source: none\; border-image-width: 1\; border-left-color: currentColor\; border-left-style: none\; border-left-width: 0px\; border-right-color: currentColor\; border-right-style: none\; border-right-width: 0px\; border-top-color: currentColor\; border-top-style: none\; border-top-width: 0px\; font-family: inherit\; font-size: inherit\; font-size-adjust: none\; font-stretch: inherit\; font-style: inherit\; font-variant: inherit\; font-weight: bold\; line-height: inherit\; margin-bottom: 0px\; margin-left: 0px\; margin-right: 0px\; margin-top: 0px\; padding-bottom: 0px\; padding-left: 0px\; padding-right: 0px\; padding-top: 0px\; vertical-align: baseline\;">Dr. Joshua W. Walker</strong>\, President and CEO\, Japan Society</p>\n<br />\n&nbsp\;
LOCATION:Virtual Event REGISTER HERE
UID:e.1719.8572
SEQUENCE:3
DTSTAMP:20260422T055252Z
URL:https://business.richardsonchamber.com/events/details/us-election-impacts-us-japan-relations-oct-20-8572
END:VEVENT

END:VCALENDAR
