BEGIN:VCALENDAR
VERSION:2.0
PRODID:-//ChamberMaster//Event Calendar 2.0//EN
METHOD:PUBLISH
X-PUBLISHED-TTL:P3D
REFRESH-INTERVAL:P3D
CALSCALE:GREGORIAN
BEGIN:VEVENT
DTSTART:20190914T180000Z
DTEND:20190914T203000Z
X-MICROSOFT-CDO-ALLDAYEVENT:FALSE
SUMMARY:*Sylvan Learning Grand Opening\, Sept. 14
DESCRIPTION:To celebrate the opening of our West Richardson location we are inviting the community to visit the center\, meet our teachers and staff\, and have an opportunity to learn about our personal tutoring\, college prep\, and innovative STEM programs. \nWe'll have refreshments\, prizes and giveaways for our guests\, including create-your-own slime! STEM demo classes will begin at 1:30 PM.
X-ALT-DESC;FMTTYPE=text/html:<span style="font-size:16px"><span style="color:rgb(35\, 31\, 32)\; font-family:proxima-nova\,sans-serif">To celebrate the opening of our West Richardson location we are inviting the community to visit the center\, meet our teachers and staff\, and have an opportunity to learn about our personal tutoring\, college prep\, and innovative STEM programs.&nbsp\;</span></span>\n<div><span style="font-size:16px">We&#39\;ll have refreshments\, prizes and giveaways for our guests\, including create-your-own slime! STEM demo classes will begin at 1:30 PM.&nbsp\;</span></div>\n
LOCATION:1333 W. Campbell Rd. Richardson\, TX 75080 Center is located next to Sprouts by the corner of Coit and Campbell.
UID:e.1719.7521
SEQUENCE:3
DTSTAMP:20260426T041205Z
URL:https://business.richardsonchamber.com/events/details/sylvan-learning-grand-opening-sept-14-7521
END:VEVENT

END:VCALENDAR
