BEGIN:VCALENDAR
VERSION:2.0
PRODID:-//ChamberMaster//Event Calendar 2.0//EN
METHOD:PUBLISH
X-PUBLISHED-TTL:P3D
REFRESH-INTERVAL:P3D
CALSCALE:GREGORIAN
BEGIN:VEVENT
DTSTART:20250123T230000Z
DTEND:20250124T010000Z
X-MICROSOFT-CDO-ALLDAYEVENT:FALSE
SUMMARY:Small Business Community Kickoff Event and Happy Hour - 2025 Business Goals - Jan. 23
DESCRIPTION:Introducing the Chamber's new Small Business Community or SBC - an initiative dedicated to supporting the growth and success of local small businesses.  Please join us for a happy hour and discussion centered around 2025 business goals. \n\n$10 to register\n\n\n\nRCC registration/cancellation policy:\n\nReservations with payment are required and will not be refunded unless cancelled three days prior to event. Substitutions will be accepted until noon the day of.  Walk-in attendees will be seated based on space availability.
X-ALT-DESC;FMTTYPE=text/html:<h4><span style="font-size:20px\;">Introducing the Chamber&#39\;s new <em><strong>Small Business Community or SBC</strong></em> - an initiative dedicated to supporting the growth and success of local small businesses.&nbsp\; Please join us for a happy hour and discussion centered around 2025 business goals.&nbsp\;</span></h4>\n\n<p><b><i>$10 to register</i></b><br />\n<br />\n<em><strong>RCC&nbsp\;registration/cancellation policy:</strong></em><br />\nReservations with payment are required and will not be refunded unless cancelled three days prior to event. Substitutions will be accepted until noon the day of.&nbsp\; Walk-in attendees will be seated based on space availability.</p>\n
LOCATION:Manny's Uptown Tex-Mex
UID:e.1719.12624
SEQUENCE:3
DTSTAMP:20260425T200646Z
URL:https://business.richardsonchamber.com/events/details/small-business-community-kickoff-event-and-happy-hour-2025-business-goals-jan-23-12624
END:VEVENT

END:VCALENDAR
