BEGIN:VCALENDAR
VERSION:2.0
PRODID:-//ChamberMaster//Event Calendar 2.0//EN
METHOD:PUBLISH
X-PUBLISHED-TTL:P3D
REFRESH-INTERVAL:P3D
CALSCALE:GREGORIAN
BEGIN:VEVENT
DTSTART:20190815T133000Z
DTEND:20190815T150000Z
X-MICROSOFT-CDO-ALLDAYEVENT:FALSE
SUMMARY:Senior Service Networking Partnership - Aug. 15
DESCRIPTION:"Common senior scams and how to avoid them" \n\nPresented by The Richardson Police Department  \n\n\n\nThe Richardson Chamber has formed a new networking group for the purpose of bringing together organizations and people who can connect with each other and provide referrals\, education and support for the senior population of our community. \n\n\n\nThe members will cover a large number of service providers from senior living needs i.e\, real estate\, assisted living\, estate planning and much more.
X-ALT-DESC;FMTTYPE=text/html:&quot\;Common senior scams and how to avoid them&quot\;&nbsp\;<br />\nPresented by&nbsp\;<b>The Richardson Police Department&nbsp\;</b>&nbsp\;<br />\n<br />\nThe Richardson Chamber has formed a new networking group for the purpose of bringing together organizations and people who can connect with each other and provide referrals\, education and support for the senior population of our community.&nbsp\;<br />\n<br />\nThe members will cover a large number of service providers from senior living needs i.e\, real estate\, assisted living\, estate planning and much more.&nbsp\;&nbsp\;<br />\n<br />\n&nbsp\;\n<div>&nbsp\;</div>\n
LOCATION:The Richardson Chamber Board Room 411 Belle Grove Dr Richardson TX 75080
UID:e.1719.7475
SEQUENCE:3
DTSTAMP:20260423T173758Z
URL:https://business.richardsonchamber.com/events/details/senior-service-networking-partnership-aug-15-7475
END:VEVENT

END:VCALENDAR
