BEGIN:VCALENDAR
VERSION:2.0
PRODID:-//ChamberMaster//Event Calendar 2.0//EN
METHOD:PUBLISH
X-PUBLISHED-TTL:P3D
REFRESH-INTERVAL:P3D
CALSCALE:GREGORIAN
BEGIN:VEVENT
DTSTART:20210415T133000Z
DTEND:20210415T143000Z
X-MICROSOFT-CDO-ALLDAYEVENT:FALSE
SUMMARY:Senior Service Networking - April 15
DESCRIPTION:Topic:  Navigating the process from hospital or rehab to home\n\nFeatured Speaker:  Andrea Workman\, Director of Social Services at The Reserve at Richardson\n\nAndrea has been in social services for 9 years.  She is from South Carolina and moved to Dallas 2 years ago. She has experience in hospital case management and transitional care as well as skilled nursing. She worked in case management at On Point Transitional Care once she arrived to Texas. Andrea will be attending classes starting in the fall to obtain LCSW to further her ability to help others. She has a significant other who is a physical therapist and 2 dogs\, Jasmine and Gabriella. \n\n\n\n\n\nThe Richardson Chamber has formed a networking group for the purpose of bringing together organizations and people who can connect with each other and provide referrals\, education\, and support for the senior population of our community. The members will cover a large number of service providers from senior living needs i.e\, real estate\, assisted living\, estate planning\, and much more.
X-ALT-DESC;FMTTYPE=text/html:<div style="margin: 0px\; padding: 0px\; border: 0px\; font-variant-numeric: inherit\; font-variant-east-asian: inherit\; font-stretch: inherit\; font-size: 12pt\; line-height: inherit\; font-family: Calibri\, Arial\, Helvetica\, sans-serif\; vertical-align: baseline\; color: black\;">\n<p style="background:white"><span style="color:black\;"><span style="font-family:calibri\,sans-serif\;"><span style="font-size:12.0pt\;"><span style="font-size:20px\;"><strong>Topic:&nbsp\; Navigating&nbsp\;the process from hospital or rehab to home</strong></span><br />\n<strong>Featured Speaker:&nbsp\;</strong>&nbsp\;</span></span></span><span style="font-size:12.0pt\;color:black"><strong>Andrea Workman</strong>\, Director of Social Services at The Reserve at Richardson<o:p></o:p></span></p>\n\n<p style="background:white"><span style="font-size:12.0pt\;color:black\;\nbackground:white">Andrea has been in social services for 9 years.</span><span style="font-size:12.0pt\;color:black">&#8203\; She&nbsp\;is from South Carolina and moved to Dallas 2 years ago. She&nbsp\;has experience in hospital case management and transitional care as well as skilled nursing. She&nbsp\;worked in case&nbsp\;management at On Point Transitional Care once she arrived to Texas. Andrea will be attending classes starting&nbsp\;in the&nbsp\;fall to obtain LCSW to further her ability to help others. She&nbsp\;has a significant other who is a physical therapist&nbsp\;and 2 dogs\, Jasmine and Gabriella.&nbsp\;<br />\n<br />\n<o:p></o:p></span></p>\n\n<p style="color: rgb(32\, 31\, 30)\; font-size: 11pt\; font-family: Calibri\, sans-serif\; margin: 0px\;"><span style="font-size:12px\;"><span style="font-family:arial\;"><span style="color: rgb(51\, 51\, 51)\;">The Richardson Chamber has formed a networking group for the purpose of bringing together organizations and people who can connect with each other and provide referrals\, education\, and support for the senior population of our community.&nbsp\;</span><span style="color: rgb(51\, 51\, 51)\;">The members will cover a large number of service providers from senior living needs i.e\, real estate\, assisted living\, estate planning\, and much more.&nbsp\;&nbsp\;</span></span></span></p>\n</div>\n
LOCATION:Zoom link will be sent upon registration
UID:e.1719.8705
SEQUENCE:3
DTSTAMP:20260421T013201Z
URL:https://business.richardsonchamber.com/events/details/senior-service-networking-april-15-8705
END:VEVENT

END:VCALENDAR
