BEGIN:VCALENDAR
VERSION:2.0
PRODID:-//ChamberMaster//Event Calendar 2.0//EN
METHOD:PUBLISH
X-PUBLISHED-TTL:P3D
REFRESH-INTERVAL:P3D
CALSCALE:GREGORIAN
BEGIN:VEVENT
DTSTART:20240725T223000Z
DTEND:20240726T003000Z
X-MICROSOFT-CDO-ALLDAYEVENT:FALSE
SUMMARY:Richardson Young Professionals Networking Happy Hour - Jul 25
DESCRIPTION:Come connect with young professionals in the Richardson community!
X-ALT-DESC;FMTTYPE=text/html:Come connect with young professionals in the Richardson community!&nbsp\;
LOCATION:Shady's Burgers & Brewhaha 2701 Custer Pkwy #915\, Richardson\, TX 75080
UID:e.1719.12403
SEQUENCE:3
DTSTAMP:20260425T021453Z
URL:https://business.richardsonchamber.com/events/details/richardson-young-professionals-networking-happy-hour-jul-25-12403
END:VEVENT

END:VCALENDAR
