BEGIN:VCALENDAR
VERSION:2.0
PRODID:-//ChamberMaster//Event Calendar 2.0//EN
METHOD:PUBLISH
X-PUBLISHED-TTL:P3D
REFRESH-INTERVAL:P3D
CALSCALE:GREGORIAN
BEGIN:VEVENT
DTSTART:20070625T220000Z
DTEND:20070626T000000Z
X-MICROSOFT-CDO-ALLDAYEVENT:FALSE
SUMMARY:Richardson Young Professionals - June 26\, 2007
DESCRIPTION:
X-ALT-DESC;FMTTYPE=text/html:
LOCATION:Casa Milagro
UID:e.1719.26
SEQUENCE:3
DTSTAMP:20260424T142553Z
URL:https://business.richardsonchamber.com/events/details/richardson-young-professionals-june-26-2007-06-25-2007-26
END:VEVENT

END:VCALENDAR
