BEGIN:VCALENDAR
VERSION:2.0
PRODID:-//ChamberMaster//Event Calendar 2.0//EN
METHOD:PUBLISH
X-PUBLISHED-TTL:P3D
REFRESH-INTERVAL:P3D
CALSCALE:GREGORIAN
BEGIN:VEVENT
DTSTART:20210430T140000Z
DTEND:20210430T220000Z
X-MICROSOFT-CDO-ALLDAYEVENT:FALSE
SUMMARY:*Richardson Woman's Club Philanthropy--April
DESCRIPTION:RICHARDSON WOMAN'S CLUB RAFFLE\n\n \n\nSpring is just around the corner and along with it comes our Texas bluebonnets. The Richardson Woman's Club will be holding a raffle for a beautiful 20X26 watercolor entitled "Bluebonnets of Texas" which was donated by a well known and admired local artist\, Elsie Hicks. Elsie has been one of the longtime\, active members of the Richardson Woman's Club. She has been recognized several times over the years by the Richardson Civic Arts Society and received the group's Chairman's award. In addition\, she has exhibited in numerous galleries. She was also invited to exhibit in a University of Mississippi Fine Arts anniversary which is where she was awarded a BA in Fine Arts.\n\n \n\nThe raffle launches March 1\, 2021\, 9:00AM on the electronic site\, Bidding Owl (biddingowl.com/rwc)\, and will close on April 30\,2021 at 5:00PM or until the limited 200 tickets are sold. The price will be $50.00 per ticket. The winner will be announced on May 6th\, 2021\, and you do not have to be present to win.\n\n \n\nAll proceeds will be used by the Richardson Woman's Club to fund the club's community outreach as well scholarships to RISD seniors. Please help to "give back" to our community by s
X-ALT-DESC;FMTTYPE=text/html:RICHARDSON WOMAN&rsquo\;S CLUB RAFFLE<br />\n&nbsp\;<br />\nSpring is just around the corner and along with it comes our Texas bluebonnets. The Richardson Woman&rsquo\;s Club will be holding a raffle for a beautiful 20X26 watercolor entitled &ldquo\;Bluebonnets of Texas&rdquo\; which was donated by a well known and admired local artist\, Elsie Hicks. Elsie has been one of the longtime\, active members of the Richardson Woman&rsquo\;s Club. She has been recognized several times over the years by the Richardson Civic Arts Society and received the group&rsquo\;s Chairman&rsquo\;s award. In addition\, she has exhibited in numerous galleries. She was also invited to exhibit in a University of Mississippi Fine Arts anniversary which is where she was awarded a BA in Fine Arts.<br />\n&nbsp\;<br />\nThe raffle launches March 1\, 2021\, 9:00AM on the electronic site\, Bidding Owl (biddingowl.com/rwc)\, and will close on April 30\,2021 at 5:00PM or until the limited 200 tickets are sold. The price will be $50.00 per ticket. The winner will be announced on May 6<sup>th</sup>\, 2021\, and you do not have to be present to win.<br />\n&nbsp\;<br />\n<span style="font-family:cambria"><span style="font-size:12pt"><span style="color:#000000">All proceeds will be used by the Richardson Woman&rsquo\;s Club to fund the club&rsquo\;s community outreach as well scholarships to RISD seniors. Please help to &ldquo\;give back&rdquo\; to our community by s</span></span></span>
LOCATION:Online only at www.biddingowl.com/rwc
UID:e.1719.8689
SEQUENCE:3
DTSTAMP:20260421T013442Z
URL:https://business.richardsonchamber.com/events/details/richardson-woman-s-club-philanthropy-april-8689
END:VEVENT

END:VCALENDAR
