BEGIN:VCALENDAR
VERSION:2.0
PRODID:-//ChamberMaster//Event Calendar 2.0//EN
METHOD:PUBLISH
X-PUBLISHED-TTL:P3D
REFRESH-INTERVAL:P3D
CALSCALE:GREGORIAN
BEGIN:VEVENT
DTSTART:20220811T213000Z
DTEND:20220811T223000Z
X-MICROSOFT-CDO-ALLDAYEVENT:FALSE
SUMMARY:Ribbon Cutting - Wildwood - Aug 11
DESCRIPTION:Join us as we welcome Wildwood to the Richardson community and celebrate with a Ribbon Cutting!
X-ALT-DESC;FMTTYPE=text/html:<span style="font-size:14px\;"><span style="font-family:arial\;">Join&nbsp\;us as we welcome Wildwood to the Richardson community and celebrate with a Ribbon Cutting!</span></span><br />\n<br />\n<br />\n<br />\n<br />\n<br />\n<br />\n<br />\n&nbsp\;&nbsp\;<br />\n<br />\n<br />\n&nbsp\; &nbsp\; &nbsp\; &nbsp\; &nbsp\; &nbsp\; &nbsp\; &nbsp\; &nbsp\; &nbsp\; &nbsp\; &nbsp\; &nbsp\; &nbsp\; &nbsp\; &nbsp\; &nbsp\; &nbsp\; &nbsp\; &nbsp\; &nbsp\; &nbsp\; &nbsp\;<br />\n&nbsp\; &nbsp\; &nbsp\; &nbsp\; &nbsp\; &nbsp\; &nbsp\; &nbsp\; &nbsp\; &nbsp\; &nbsp\; &nbsp\; &nbsp\; &nbsp\; &nbsp\; &nbsp\; &nbsp\; &nbsp\; &nbsp\; &nbsp\; &nbsp\; &nbsp\; &nbsp\;&nbsp\; &nbsp\; &nbsp\; &nbsp\; &nbsp\; &nbsp\; &nbsp\; &nbsp\; &nbsp\;
LOCATION:Wildwood 1417 E. Renner Rd #300 Richardson\, TX 75082
UID:e.1719.11181
SEQUENCE:3
DTSTAMP:20260422T224222Z
URL:https://business.richardsonchamber.com/events/details/ribbon-cutting-wildwood-aug-11-11181
END:VEVENT

END:VCALENDAR
