BEGIN:VCALENDAR
VERSION:2.0
PRODID:-//ChamberMaster//Event Calendar 2.0//EN
METHOD:PUBLISH
X-PUBLISHED-TTL:P3D
REFRESH-INTERVAL:P3D
CALSCALE:GREGORIAN
BEGIN:VEVENT
DTSTART:20241211T210000Z
DTEND:20241211T223000Z
X-MICROSOFT-CDO-ALLDAYEVENT:FALSE
SUMMARY:Ribbon Cutting - Springhill Retreat Center - Dec 11
DESCRIPTION:Join us as we celebrate Springhill Retreat Center with a ribbon cutting. The event is free to attend
X-ALT-DESC;FMTTYPE=text/html:Join us as we celebrate Springhill Retreat Center with a ribbon cutting.&nbsp\;The event is free to attend
LOCATION:3991 E. Renner Rd Richardson\, TX 75082
UID:e.1719.12516
SEQUENCE:3
DTSTAMP:20260421T191038Z
URL:https://business.richardsonchamber.com/events/details/ribbon-cutting-springhill-retreat-center-dec-11-12516
END:VEVENT

END:VCALENDAR
