BEGIN:VCALENDAR
VERSION:2.0
PRODID:-//ChamberMaster//Event Calendar 2.0//EN
METHOD:PUBLISH
X-PUBLISHED-TTL:P3D
REFRESH-INTERVAL:P3D
CALSCALE:GREGORIAN
BEGIN:VEVENT
DTSTART:20240709T210000Z
DTEND:20240709T220000Z
X-MICROSOFT-CDO-ALLDAYEVENT:FALSE
SUMMARY:Ribbon Cutting - Peach Cobbler Factory - July 9th
DESCRIPTION:You are invited to the ribbon cutting of The Peach Cobbler Factory! Join us as we welcome them to the community and celebrate with a Ribbon Cutting.  \n\n\n\n*open to the public!*
X-ALT-DESC;FMTTYPE=text/html:<span style="box-sizing: border-box\; color: rgb(0\, 0\, 0)\; text-align: center\; font-family: arial\; font-size: 14px\;">You are invited to the ribbon cutting of The Peach Cobbler Factory!</span><span style="box-sizing: border-box\; font-weight: bolder\; color: rgb(0\, 0\, 0)\; text-align: center\; font-family: arial\; font-size: 14px\;">&nbsp\;</span><span style="box-sizing: border-box\; color: rgb(0\, 0\, 0)\; text-align: center\; font-family: arial\; font-size: 14px\;">Join&nbsp\;us as we welcome them&nbsp\;to the community and celebrate with a Ribbon Cutting.&nbsp\;&nbsp\;<br />\n<br />\n*open to the public!*</span>
LOCATION:The Peach Cobbler Factory 720 E Campbell Rd #420\, Richardson\, TX 75081
UID:e.1719.12415
SEQUENCE:3
DTSTAMP:20260425T022820Z
URL:https://business.richardsonchamber.com/events/details/ribbon-cutting-peach-cobbler-factory-july-9th-12415
END:VEVENT

END:VCALENDAR
