BEGIN:VCALENDAR
VERSION:2.0
PRODID:-//ChamberMaster//Event Calendar 2.0//EN
METHOD:PUBLISH
X-PUBLISHED-TTL:P3D
REFRESH-INTERVAL:P3D
CALSCALE:GREGORIAN
BEGIN:VEVENT
DTSTART:20210430T170000Z
DTEND:20210430T180000Z
X-MICROSOFT-CDO-ALLDAYEVENT:FALSE
SUMMARY:Ribbon Cutting - Monster Fitness - April 30
DESCRIPTION:Please join us as we welcome Monster Fitness to the community and celebrate with a ribbon cutting.
X-ALT-DESC;FMTTYPE=text/html:<span style="font-size:16px\;"><span style="font-family:arial\;"><span style="color: rgb(50\, 49\, 48)\;">Please join us as we welcome Monster Fitness to the community and celebrate with a ribbon cutting.&nbsp\;</span></span></span><br />\n<br />\n&nbsp\;&nbsp\;<br />\n&nbsp\; &nbsp\; &nbsp\; &nbsp\; &nbsp\; &nbsp\; &nbsp\; &nbsp\; &nbsp\; &nbsp\; &nbsp\; &nbsp\; &nbsp\; &nbsp\; &nbsp\; &nbsp\; &nbsp\; &nbsp\; &nbsp\; &nbsp\; &nbsp\; &nbsp\; &nbsp\; &nbsp\; &nbsp\;&nbsp\;
LOCATION:Monster Fitness 235 N. Central Expy Richardson\, TX 75080
UID:e.1719.8712
SEQUENCE:3
DTSTAMP:20260421T013417Z
URL:https://business.richardsonchamber.com/events/details/ribbon-cutting-monster-fitness-april-30-8712
END:VEVENT

END:VCALENDAR
