BEGIN:VCALENDAR
VERSION:2.0
PRODID:-//ChamberMaster//Event Calendar 2.0//EN
METHOD:PUBLISH
X-PUBLISHED-TTL:P3D
REFRESH-INTERVAL:P3D
CALSCALE:GREGORIAN
BEGIN:VEVENT
DTSTART:20220712T213000Z
DTEND:20220712T223000Z
X-MICROSOFT-CDO-ALLDAYEVENT:FALSE
SUMMARY:Ribbon Cutting - Emeritus - July 12
DESCRIPTION:You are invited to the ribbon cutting of Emeritus Cyber Solutions! Join us as we welcome them to the community and celebrate with a Ribbon Cutting.  \n\n\n*Open to the public!*
X-ALT-DESC;FMTTYPE=text/html:<div><span style="font-family: arial\; font-size: 14px\;">You are invited to the ribbon cutting of Emeritus Cyber Solutions</span><strong style="font-family: arial\; font-size: 14px\;">! </strong><span style="font-family: arial\; font-size: 14px\;">Join&nbsp\;us as we welcome them&nbsp\;to the community and celebrate with a Ribbon Cutting.&nbsp\;&nbsp\;</span></div>\n<br />\n<span style="font-size:14px\;"><span style="font-family:arial\;">*Open to the public!*</span></span><br />\n&nbsp\;&nbsp\;<br />\n<br />\n<br />\n&nbsp\; &nbsp\; &nbsp\; &nbsp\; &nbsp\; &nbsp\;&nbsp\; &nbsp\; &nbsp\; &nbsp\; &nbsp\; &nbsp\; &nbsp\; &nbsp\; &nbsp\; &nbsp\; &nbsp\; &nbsp\; &nbsp\; &nbsp\; &nbsp\;&nbsp\;<br />\n&nbsp\; &nbsp\; &nbsp\; &nbsp\; &nbsp\; &nbsp\; &nbsp\; &nbsp\; &nbsp\; &nbsp\; &nbsp\; &nbsp\; &nbsp\; &nbsp\; &nbsp\; &nbsp\; &nbsp\; &nbsp\; &nbsp\; &nbsp\; &nbsp\; &nbsp\; &nbsp\;&nbsp\; &nbsp\; &nbsp\; &nbsp\; &nbsp\; &nbsp\; &nbsp\; &nbsp\; &nbsp\;
LOCATION:101 W. Renner Rd\, St 240
UID:e.1719.11164
SEQUENCE:3
DTSTAMP:20260422T192331Z
URL:https://business.richardsonchamber.com/events/details/ribbon-cutting-emeritus-july-12-11164
END:VEVENT

END:VCALENDAR
