BEGIN:VCALENDAR
VERSION:2.0
PRODID:-//ChamberMaster//Event Calendar 2.0//EN
METHOD:PUBLISH
X-PUBLISHED-TTL:P3D
REFRESH-INTERVAL:P3D
CALSCALE:GREGORIAN
BEGIN:VEVENT
DTSTART:20250426T161500Z
DTEND:20250426T173000Z
X-MICROSOFT-CDO-ALLDAYEVENT:FALSE
SUMMARY:Ribbon Cutting - Belt & Main - Apr 26
DESCRIPTION:Join us as we welcome Belt & Main to the Richardson Chamber community!
X-ALT-DESC;FMTTYPE=text/html:Join us as we welcome Belt &amp\; Main to the Richardson Chamber community!
LOCATION:150 West Main St\, Richardson\, TX 75081
UID:e.1719.12674
SEQUENCE:3
DTSTAMP:20260421T161603Z
URL:https://business.richardsonchamber.com/events/details/ribbon-cutting-belt-main-apr-26-12674
END:VEVENT

END:VCALENDAR
