BEGIN:VCALENDAR
VERSION:2.0
PRODID:-//ChamberMaster//Event Calendar 2.0//EN
METHOD:PUBLISH
X-PUBLISHED-TTL:P3D
REFRESH-INTERVAL:P3D
CALSCALE:GREGORIAN
BEGIN:VEVENT
DTSTART:20210421T213000Z
DTEND:20210421T223000Z
X-MICROSOFT-CDO-ALLDAYEVENT:FALSE
SUMMARY:Ribbon Cutting - BBQ Chicken - April 21
DESCRIPTION:Please join us as we welcome BBQ Chicken to the community and celebrate with a ribbon cutting.
X-ALT-DESC;FMTTYPE=text/html:<span style="font-size:16px\;"><span style="font-family:arial\;"><span style="color: rgb(50\, 49\, 48)\;">Please join us as we welcome BBQ Chicken to the community and celebrate with a ribbon cutting.&nbsp\;</span></span></span><br />\n<br />\n&nbsp\;&nbsp\;<br />\n&nbsp\; &nbsp\; &nbsp\; &nbsp\; &nbsp\; &nbsp\; &nbsp\; &nbsp\; &nbsp\; &nbsp\; &nbsp\; &nbsp\; &nbsp\; &nbsp\; &nbsp\; &nbsp\; &nbsp\; &nbsp\; &nbsp\; &nbsp\; &nbsp\; &nbsp\; &nbsp\; &nbsp\; &nbsp\;&nbsp\;
LOCATION:BBQ Chicken 1312 E. Beltline Road Richardson\, Texas 75081
UID:e.1719.8707
SEQUENCE:3
DTSTAMP:20260421T030740Z
URL:https://business.richardsonchamber.com/events/details/ribbon-cutting-bbq-chicken-april-21-8707
END:VEVENT

END:VCALENDAR
