BEGIN:VCALENDAR
VERSION:2.0
PRODID:-//ChamberMaster//Event Calendar 2.0//EN
METHOD:PUBLISH
X-PUBLISHED-TTL:P3D
REFRESH-INTERVAL:P3D
CALSCALE:GREGORIAN
BEGIN:VEVENT
DTSTART:20230725T160000Z
DTEND:20230725T170000Z
X-MICROSOFT-CDO-ALLDAYEVENT:FALSE
SUMMARY:Ribbon Cutting - Austin Circuit Design - July 25
DESCRIPTION:You are invited to the ribbon cutting of Austin Circuit Design! Join us as we welcome them to the community and celebrate with a Ribbon Cutting.  \n\n \n\n\n*Open to the public!*
X-ALT-DESC;FMTTYPE=text/html:<div style="text-align: center\;"><span style="font-family: arial\; font-size: 14px\;">You are invited to the ribbon cutting of Austin Circuit Design!</span><strong style="font-family: arial\; font-size: 14px\;">&nbsp\;</strong><span style="font-family: arial\; font-size: 14px\;">Join&nbsp\;us as we welcome them&nbsp\;to the community and celebrate with a Ribbon Cutting.&nbsp\;&nbsp\;</span><br />\n&nbsp\;</div>\n<br />\n<span style="font-size:14px\;"><span style="font-family:arial\;">*Open to the public!*</span></span><br />\n&nbsp\;&nbsp\;<br />\n<br />\n<br />\n&nbsp\; &nbsp\; &nbsp\; &nbsp\; &nbsp\; &nbsp\; &nbsp\; &nbsp\; &nbsp\; &nbsp\; &nbsp\; &nbsp\; &nbsp\; &nbsp\; &nbsp\; &nbsp\; &nbsp\; &nbsp\; &nbsp\; &nbsp\; &nbsp\; &nbsp\; &nbsp\;<br />\n&nbsp\; &nbsp\; &nbsp\; &nbsp\; &nbsp\; &nbsp\; &nbsp\; &nbsp\; &nbsp\; &nbsp\; &nbsp\; &nbsp\; &nbsp\; &nbsp\; &nbsp\; &nbsp\; &nbsp\; &nbsp\; &nbsp\; &nbsp\; &nbsp\; &nbsp\; &nbsp\;&nbsp\; &nbsp\; &nbsp\; &nbsp\; &nbsp\; &nbsp\; &nbsp\; &nbsp\; &nbsp\;
LOCATION:Austin Circuit Design 1850 N. Greenville Ave Suite 150 Richardson\, TX
UID:e.1719.12037
SEQUENCE:3
DTSTAMP:20260421T122724Z
URL:https://business.richardsonchamber.com/events/details/ribbon-cutting-austin-circuit-design-july-25-12037
END:VEVENT

END:VCALENDAR
