BEGIN:VCALENDAR
VERSION:2.0
PRODID:-//ChamberMaster//Event Calendar 2.0//EN
METHOD:PUBLISH
X-PUBLISHED-TTL:P3D
REFRESH-INTERVAL:P3D
CALSCALE:GREGORIAN
BEGIN:VEVENT
DTSTART:20240828T200000Z
DTEND:20240828T210000Z
X-MICROSOFT-CDO-ALLDAYEVENT:FALSE
SUMMARY:Ribbon Cutting - AppleTree Court - August 28th
DESCRIPTION:You are invited to the ribbon cutting of AppleTree Court! Join us as we welcome them to the community and celebrate with a Ribbon Cutting.  \n\n\n\n*open to the public!*
X-ALT-DESC;FMTTYPE=text/html:<span style="box-sizing: border-box\; color: rgb(0\, 0\, 0)\; text-align: center\; font-family: arial\; font-size: 14px\;">You are invited to the ribbon cutting of AppleTree Court!</span><span style="box-sizing: border-box\; font-weight: bolder\; color: rgb(0\, 0\, 0)\; text-align: center\; font-family: arial\; font-size: 14px\;">&nbsp\;</span><span style="box-sizing: border-box\; color: rgb(0\, 0\, 0)\; text-align: center\; font-family: arial\; font-size: 14px\;">Join&nbsp\;us as we welcome them&nbsp\;to the community and celebrate with a Ribbon Cutting.&nbsp\;&nbsp\;<br />\n<br />\n*open to the public!*</span>
LOCATION:AppleTree Court 870 W Arapaho Rd\, Richardson\, TX 75080
UID:e.1719.12448
SEQUENCE:3
DTSTAMP:20260424T165831Z
URL:https://business.richardsonchamber.com/events/details/ribbon-cutting-appletree-court-august-28th-12448
END:VEVENT

END:VCALENDAR
