BEGIN:VCALENDAR
VERSION:2.0
PRODID:-//ChamberMaster//Event Calendar 2.0//EN
METHOD:PUBLISH
X-PUBLISHED-TTL:P3D
REFRESH-INTERVAL:P3D
CALSCALE:GREGORIAN
BEGIN:VEVENT
DTSTART:20201215T223000Z
DTEND:20201215T233000Z
X-MICROSOFT-CDO-ALLDAYEVENT:FALSE
SUMMARY:Ribbon Cutting - Anaya's Seafood Scratch Kitchen - Dec. 15
DESCRIPTION:Please join us as we welcome Anaya's Seafood Scratch Kitchen to the community and celebrate with a ribbon-cutting.
X-ALT-DESC;FMTTYPE=text/html:<span style="font-size:16px\;"><span style="font-family:arial\;"><span style="color: rgb(50\, 49\, 48)\;">Please join us as we welcome Anaya&#39\;s Seafood Scratch Kitchen to the community and celebrate with a ribbon-cutting.&nbsp\;</span></span></span><br />\n<br />\n&nbsp\;&nbsp\;<br />\n&nbsp\; &nbsp\; &nbsp\; &nbsp\; &nbsp\; &nbsp\; &nbsp\; &nbsp\; &nbsp\; &nbsp\; &nbsp\; &nbsp\; &nbsp\; &nbsp\; &nbsp\; &nbsp\; &nbsp\; &nbsp\; &nbsp\; &nbsp\; &nbsp\; &nbsp\; &nbsp\; &nbsp\; &nbsp\;&nbsp\;
LOCATION:Anaya's Seafood Scratch Kitchen 3600 Shire Blvd Richardson\, Texas 75082
UID:e.1719.8620
SEQUENCE:3
DTSTAMP:20260422T072354Z
URL:https://business.richardsonchamber.com/events/details/ribbon-cutting-anaya-s-seafood-scratch-kitchen-dec-15-8620
END:VEVENT

END:VCALENDAR
