BEGIN:VCALENDAR
VERSION:2.0
PRODID:-//ChamberMaster//Event Calendar 2.0//EN
METHOD:PUBLISH
X-PUBLISHED-TTL:P3D
REFRESH-INTERVAL:P3D
CALSCALE:GREGORIAN
BEGIN:VEVENT
DTSTART:20250212T220000Z
DTEND:20250212T230000Z
X-MICROSOFT-CDO-ALLDAYEVENT:FALSE
SUMMARY:Ribbon Cutting - Altered States - Feb 12
DESCRIPTION:Join us for a ribbon-cutting ceremony at Altered States Wellness! Celebrate with us as they unveil their new space\, offering complimentary sessions of red-light therapy\, compression boots\, and cold plunges. Enjoy light snacks and sip on champagne\, kombucha\, or wine while you tour their immersive float rooms and explore the ultimate in relaxation and wellness. \n\n\n\nIf you'd like to try the cold plunge\, don't forget to bring your swimsuit! They'll provide towels to ensure you're all set for the experience. We can't wait to welcome you and celebrate this exciting new chapter together!\n\n\n\n*open to the public*
X-ALT-DESC;FMTTYPE=text/html:<span style="color:black\;">Join us for a ribbon-cutting ceremony at Altered States Wellness! Celebrate with us as they unveil their new space\, offering complimentary sessions of red-light therapy\, compression boots\, and cold plunges. Enjoy light snacks and sip on champagne\, kombucha\, or wine while you tour their immersive float rooms and explore the ultimate in relaxation and wellness. </span><br />\n<br />\n<span style="color:black\;">If you&#39\;d like to try the cold plunge\, don&#39\;t forget to bring your swimsuit! They&#39\;ll provide towels to ensure you&#39\;re all set for the experience. We can&#39\;t wait to welcome you and celebrate this exciting new chapter together!</span><br />\n<br />\n*open to the public*
LOCATION:Altered States 212 W Campbell Rd #212
UID:e.1719.12636
SEQUENCE:3
DTSTAMP:20260421T131703Z
URL:https://business.richardsonchamber.com/events/details/ribbon-cutting-altered-states-feb-12-12636
END:VEVENT

END:VCALENDAR
