BEGIN:VCALENDAR
VERSION:2.0
PRODID:-//ChamberMaster//Event Calendar 2.0//EN
METHOD:PUBLISH
X-PUBLISHED-TTL:P3D
REFRESH-INTERVAL:P3D
CALSCALE:GREGORIAN
BEGIN:VEVENT
DTSTART:20260512T213000Z
DTEND:20260513T000000Z
X-MICROSOFT-CDO-ALLDAYEVENT:FALSE
SUMMARY:Ribbon Cutting + 20th Anniversary Celebration - Logotology
DESCRIPTION:Join us for a 20th anniversary celebration and ribbon cutting of Logotology! The ribbon cutting will be at 4:30 followed by food and drinks to celebrate their impact on Richardson
X-ALT-DESC;FMTTYPE=text/html:<span style="font-family: Aptos\, Aptos_EmbeddedFont\, Aptos_MSFontService\, Calibri\, Helvetica\, sans-serif\; font-size: 12pt\; color: rgb(0\, 0\, 0)\;">Join us for a 20<sup>th</sup>&nbsp\;anniversary celebration and ribbon cutting of Logotology! The ribbon cutting will be at 4:30 followed by food and drinks to celebrate their impact on Richardson</span>
LOCATION:
UID:e.1719.13446
SEQUENCE:3
DTSTAMP:20260419T134402Z
URL:https://business.richardsonchamber.com/events/details/ribbon-cutting-20th-anniversary-celebration-logotology-13446
END:VEVENT

END:VCALENDAR
