BEGIN:VCALENDAR
VERSION:2.0
PRODID:-//ChamberMaster//Event Calendar 2.0//EN
METHOD:PUBLISH
X-PUBLISHED-TTL:P3D
REFRESH-INTERVAL:P3D
CALSCALE:GREGORIAN
BEGIN:VEVENT
DTSTART:20191017T163000Z
DTEND:20191017T180000Z
X-MICROSOFT-CDO-ALLDAYEVENT:FALSE
SUMMARY:Public Policy Briefing - 2019 - Oct 17
DESCRIPTION:The next Public Policy Briefing will be on the ten constitutional amendments that will be on the November ballot for Texans to vote on.\n\n \n\nWe will focus on a few of them that will be of greater interest to our members.\n\n \n\nRep. Jeff Leach will be one of our guest speakers discussing  his support for the NO Texas Income Tax Amendment.\n\n \n\nWayne Roberts\, the Executive Director of the Cancer Prevention & Research Institute of Texas\, will talk about the proposed amendment to issue additional bonds to fund cancer research in Texas.\n\n \n\nLiz Morse\, Chief Government Affairs and Civic Engagement Officer will discuss the distributions to the available school fund proposition.
X-ALT-DESC;FMTTYPE=text/html:The next Public Policy Briefing will be on the ten constitutional amendments that will be on the November ballot for Texans to vote on.<br />\n&nbsp\;<br />\nWe will focus on a few of them that will be of greater interest to our members.<br />\n&nbsp\;<br />\n<strong>Rep. Jeff Leach</strong> will be one of our guest speakers discussing&nbsp\; his support for the NO Texas Income Tax Amendment.<br />\n&nbsp\;<br />\n<strong>Wayne Roberts</strong>\, the Executive Director of the Cancer Prevention &amp\; Research Institute of Texas\, will talk about the proposed amendment to issue additional bonds to fund cancer research in Texas.<br />\n&nbsp\;<br />\n<strong>Liz Morse\,</strong> Chief Government Affairs and Civic Engagement Officer will discuss the distributions to the available school fund proposition.&nbsp\;<br />\n&nbsp\;
LOCATION:Richardson Chamber Board Room 411 Belle Grove Drive Richardson\, TX 75080
UID:e.1719.7523
SEQUENCE:3
DTSTAMP:20260420T120017Z
URL:https://business.richardsonchamber.com/events/details/public-policy-briefing-2019-oct-17-7523
END:VEVENT

END:VCALENDAR
