BEGIN:VCALENDAR
VERSION:2.0
PRODID:-//ChamberMaster//Event Calendar 2.0//EN
METHOD:PUBLISH
X-PUBLISHED-TTL:P3D
REFRESH-INTERVAL:P3D
CALSCALE:GREGORIAN
BEGIN:VEVENT
DTSTART;VALUE=DATE:20201204
DTEND;VALUE=DATE:20201205
TRANSP:TRANSPARENT
X-MICROSOFT-CDO-ALLDAYEVENT:TRUE
SUMMARY:*Pajamas for Seniors Fundraiser\, Appletree Court\, Nov. 9-Dec. 4
DESCRIPTION:Appletree Court will be taking donations of men and women's adult pajamas.  These donations will go to seniors in low income nursing homes and homeless shelters.  You can drop off your donations at our community.  Please contact Jerri Johnston at 972-889-2300 if you have any questions.
X-ALT-DESC;FMTTYPE=text/html:Appletree Court will be taking donations of men and women&#39\;s adult pajamas.&nbsp\; These donations will go to seniors in low income nursing homes and homeless shelters.&nbsp\; You can drop off your donations at our community.&nbsp\; Please contact Jerri Johnston at 972-889-2300 if you have any questions. &nbsp\;
LOCATION:Appletree Court 870 W Arapaho Rd Richardson\, Tx 75080
UID:e.1719.8610
SEQUENCE:3
DTSTAMP:20260422T090643Z
URL:https://business.richardsonchamber.com/events/details/pajamas-for-seniors-fundraiser-appletree-court-nov-9-dec-4-8610
END:VEVENT

END:VCALENDAR
