BEGIN:VCALENDAR
VERSION:2.0
PRODID:-//ChamberMaster//Event Calendar 2.0//EN
METHOD:PUBLISH
X-PUBLISHED-TTL:P3D
REFRESH-INTERVAL:P3D
CALSCALE:GREGORIAN
BEGIN:VEVENT
DTSTART;VALUE=DATE:20201120
DTEND;VALUE=DATE:20201121
TRANSP:TRANSPARENT
X-MICROSOFT-CDO-ALLDAYEVENT:TRUE
SUMMARY:*Online Auction\, Richardson Women's Club\, Nov. 18-20
DESCRIPTION:The Richardson Woman's Club will be holding an online auction in place of an in person fund raiser due to the pandemic. This fund raiser will be vital in continuing to provide our community services which include scholarships for RISD seniors and for grants to non-profit agencies in Richardson. We have over 150 items in a variety of categories which include home decor\, holiday\, travel\, fashion and electronics. Although the bidding begins at 8:00 AM November 18th through 8:00 PM November 20\, items may be viewed now by logging in to Biddingowl.com/RWC. Items may be picked up at the RWC Clubhouse\, 2005 N. Cliffe Dr.\, Richardson. If necessary\, delivery arrangement at the buyer's expense\, may be made by contacting Brenda Duckett at bduckett2@netzero.com.  We would very much appreciate your support for this community fundraiser!
X-ALT-DESC;FMTTYPE=text/html:&nbsp\;<br />\n<span style="font-size:9pt">The Richardson Woman&#39\;s Club will be holding an online auction in place of an in person fund raiser due to the&nbsp\;</span><span style="font-size:12px">pandemic.</span><span style="font-size:9pt">&nbsp\;This fund raiser will be vital in continuing to provide our community services which include scholarships for RISD seniors and for grants to non-profit agencies in Richardson. We have over 150 items in a variety of categories which include home decor\, holiday\, travel\, fashion and electronics. Although the bidding begins at 8:00 AM November 18th through 8:00 PM November 20\, items may be viewed now by logging in to&nbsp\;</span><a href="http://biddingowl.com/RWC"><span style="color:blue"><span style="font-family:helvetica"><span style="font-size:9pt">Biddingowl.com/RWC</span></span></span></a><span style="font-family:helvetica"><span style="font-size:9pt">. Items may be picked up at the RWC Clubhouse\, 2005 N. Cliffe Dr.\, Richardson. If necessary\, delivery arrangement at the buyer&rsquo\;s expense\, may be made by contacting Brenda Duckett at&nbsp\;</span></span><span style="color:blue"><span style="font-family:helvetica"><span style="font-size:9pt">bduckett2@netzero.com</span></span></span><span style="font-family:helvetica"><span style="font-size:9pt">. &nbsp\;We would very much appreciate your support for this community fundraiser!&nbsp\;</span></span>
LOCATION:bidding owl.com/rwc
UID:e.1719.8603
SEQUENCE:3
DTSTAMP:20260422T072553Z
URL:https://business.richardsonchamber.com/events/details/online-auction-richardson-women-s-club-nov-18-20-8603
END:VEVENT

END:VCALENDAR
