BEGIN:VCALENDAR
VERSION:2.0
PRODID:-//ChamberMaster//Event Calendar 2.0//EN
METHOD:PUBLISH
X-PUBLISHED-TTL:P3D
REFRESH-INTERVAL:P3D
CALSCALE:GREGORIAN
BEGIN:VEVENT
DTSTART:20201215T160000Z
DTEND:20201215T163000Z
X-MICROSOFT-CDO-ALLDAYEVENT:FALSE
SUMMARY:*Mobile Marketing Webinar\, Ibex Digital\, Dec. 15
DESCRIPTION:Learn all the feature of Mobile Marketing including Geo-Fencing\, Behavioral/Location/Brand Targeting\, Dynamically  Updated Ads\, Audience DNA\, Weather Triggered Ads\, Geo-Retargeting\, Geo-Lookalike Targeting\, and Visit Tracking. If you are new to mobile or a mobile marketing enthusiast\, There's a topic for you in this webinar! \n\nThe link to sign up is below:  We will send the link to the webinar by email.  \n\nhttps://forms.gle/DEwDavcjkG8ct1jY6
X-ALT-DESC;FMTTYPE=text/html:Learn all the feature of Mobile Marketing including Geo-Fencing\, Behavioral/Location/Brand Targeting\, Dynamically&nbsp\; Updated Ads\, Audience DNA\, Weather Triggered Ads\, Geo-Retargeting\, Geo-Lookalike Targeting\, and Visit Tracking. If you are new to mobile or a mobile marketing enthusiast\, There&#39\;s a topic for you in this webinar!&nbsp\;<br />\nThe link to sign up is below:&nbsp\; We will send the link to the webinar by email.&nbsp\;&nbsp\;<br />\nhttps://forms.gle/DEwDavcjkG8ct1jY6
LOCATION:Online
UID:e.1719.8613
SEQUENCE:3
DTSTAMP:20260422T090126Z
URL:https://business.richardsonchamber.com/events/details/mobile-marketing-webinar-ibex-digital-dec-15-8613
END:VEVENT

END:VCALENDAR
