BEGIN:VCALENDAR
VERSION:2.0
PRODID:-//ChamberMaster//Event Calendar 2.0//EN
METHOD:PUBLISH
X-PUBLISHED-TTL:P3D
REFRESH-INTERVAL:P3D
CALSCALE:GREGORIAN
BEGIN:VEVENT
DTSTART:20220921T160000Z
DTEND:20220921T173000Z
X-MICROSOFT-CDO-ALLDAYEVENT:FALSE
SUMMARY:Member Event - State Rep Angie Chen Button presents Business and Economy Roundtable
DESCRIPTION:Please join us for our HD 112 Virtual Roundtables. We have two days of virtual roundtables scheduled and would love for you to join us to hear from a wonderful lineup of expert panelist. You are welcome to attend both sessions in their entirety or to choose which topics you would like to hear more about. A detailed agenda and timeline will be available closer to the event so you can schedule accordingly. Please be sure to register in advance. Once you have registered\, please email Angie.Button@house.texas.gov with any questions you would like to make sure we address during the roundtables.\n\n \n\nRegister in advance for this meeting:\n\nhttps://us02web.zoom.us/meeting/register/tZYld-CsrD0jGNM64UiQO0m3ChSbFpPGEcri\n\n\n\n\n\n\n\n \n\nTentative Agenda \n\nComptroller's Office on Revenue Estimates\n\nGovernor's Office on Economic Development & Tourism \n\nTerri Adkisson\,  Fractional COO
X-ALT-DESC;FMTTYPE=text/html:<p style="margin:0in"><span style="font-size:12.0pt\;font-family:&quot\;Times New Roman&quot\;\,serif\;\ncolor:black">Please join us for our HD 112 Virtual Roundtables. We have two days of virtual roundtables scheduled and would love for you to join us to hear from a wonderful lineup of expert panelist. You are welcome to attend both sessions in their entirety or to choose which topics you would like to hear more about. A detailed agenda and timeline will be available closer to the event so you can schedule accordingly. Please be sure to register in advance. Once you have registered\, please email <a href="mailto:Angie.Button@house.texas.gov" target="_blank">Angie.Button@house.texas.gov</a> with any questions you would like to make sure we address during the roundtables.</span><br />\n&nbsp\;</p>\n\n<p align="center" style="margin:0in\;text-align:center"><span style="font-size:\n12.0pt\;font-family:&quot\;Times New Roman&quot\;\,serif\;color:black">Register in advance for this meeting:</span><o:p></o:p></p>\n\n<p align="center" style="margin:0in\;text-align:center"><span style="font-size:\n12.0pt\;font-family:&quot\;Times New Roman&quot\;\,serif\;color:black"><a href="https://us02web.zoom.us/meeting/register/tZYld-CsrD0jGNM64UiQO0m3ChSbFpPGEcri" target="_blank">https://us02web.zoom.us/meeting/register/tZYld-CsrD0jGNM64UiQO0m3ChSbFpPGEcri</a></span><o:p></o:p></p>\n\n<p style="margin:0in"><br />\n<o:p></o:p><br />\n<br />\n&nbsp\;</p>\n\n<p style="margin:0in"><i><u><span style="font-size:12.0pt\;font-family:&quot\;Times New Roman&quot\;\,serif\;\ncolor:black">Tentative Agenda </span></u></i><o:p></o:p></p>\n\n<p style="margin:0in"><span style="font-size:12.0pt\;font-family:&quot\;Times New Roman&quot\;\,serif\;\ncolor:black">Comptroller&#39\;s Office on Revenue Estimates</span><o:p></o:p></p>\n\n<p style="margin:0in"><span style="font-size:12.0pt\;font-family:&quot\;Times New Roman&quot\;\,serif\;\ncolor:black">Governor&#39\;s Office on Economic Development &amp\; Tourism&nbsp\;</span><o:p></o:p></p>\n\n<p style="margin:0in"><span style="font-size:12.0pt\;font-family:&quot\;Times New Roman&quot\;\,serif\;\ncolor:black">Terri Adkisson<b>\, </b>&nbsp\;Fractional COO</span></p>\n
LOCATION:Zoom
UID:e.1719.11809
SEQUENCE:3
DTSTAMP:20260422T225107Z
URL:https://business.richardsonchamber.com/events/details/member-event-state-rep-angie-chen-button-presents-business-and-economy-roundtable-11809
END:VEVENT

END:VCALENDAR
