BEGIN:VCALENDAR
VERSION:2.0
PRODID:-//ChamberMaster//Event Calendar 2.0//EN
METHOD:PUBLISH
X-PUBLISHED-TTL:P3D
REFRESH-INTERVAL:P3D
CALSCALE:GREGORIAN
BEGIN:VEVENT
DTSTART;VALUE=DATE:20220819
DTEND;VALUE=DATE:20220820
TRANSP:TRANSPARENT
X-MICROSOFT-CDO-ALLDAYEVENT:TRUE
SUMMARY:Member Event - Godspell the Musical - August 19-28
DESCRIPTION:Godspell\n\nBy Stephen Schwartz & John Michael Tebelak\n\nAugust 19-28\, 2022\n\nFr/Sat 7:30m\, Sun 2:00\n\nTickets:  $32 adults\,  $18 youth (8-18)\n\nBox Officer: 972-690-5029\n\nRepertory Company Theatre-  770 N Coit\, Richardson\n\n \n\nAn offbeat group of disciples helps Jesus bring his enduring parables to life through games\, stories\, and unforgettable songs. Boasting a score with chart-topping songs by Grammy and Academy Award-winner\, Stephen Schwartz\, and a book by visionary playwright\, John-Michael Tebelak\, Godspell is a sensation that continues to touch audiences with its enduring messages of kindness\, tolerance and love.
X-ALT-DESC;FMTTYPE=text/html:<span style="font-size:16.0pt">Godspell</span><br />\nBy Stephen Schwartz &amp\; John Michael Tebelak<br />\nAugust 19-28\, 2022<br />\nFr/Sat 7:30m\, Sun 2:00<br />\nTickets:&nbsp\; $32 adults\,&nbsp\; $18 youth (8-18)<br />\nBox Officer: 972-690-5029<br />\nRepertory Company Theatre-&nbsp\; 770 N Coit\, Richardson<br />\n&nbsp\;<br />\nAn offbeat group of disciples helps Jesus bring his enduring parables to life through games\, stories\, and unforgettable songs. Boasting a score with chart-topping songs by Grammy and Academy Award-winner\, Stephen Schwartz\, and a book by visionary playwright\, John-Michael Tebelak\, <em>Godspell </em>is a sensation that continues to touch audiences with its enduring messages of kindness\, tolerance and love.<br />\n&nbsp\;<br />\n&nbsp\;
LOCATION:Repertory Company Theatre\, 770 N Coit\, Richardson\, TX Coit & Arapaho Roads
UID:e.1719.11155
SEQUENCE:3
DTSTAMP:20260422T205905Z
URL:https://business.richardsonchamber.com/events/details/member-event-godspell-the-musical-august-19-28-11155
END:VEVENT

END:VCALENDAR
