BEGIN:VCALENDAR
VERSION:2.0
PRODID:-//ChamberMaster//Event Calendar 2.0//EN
METHOD:PUBLISH
X-PUBLISHED-TTL:P3D
REFRESH-INTERVAL:P3D
CALSCALE:GREGORIAN
BEGIN:VEVENT
DTSTART:20220917T003000Z
DTEND:20220917T030000Z
X-MICROSOFT-CDO-ALLDAYEVENT:FALSE
SUMMARY:Member Event - Forever Plaid
DESCRIPTION:FOREVER PLAID-\n\nSEPTEMBER 16-25\, 2022                                                                               \n\n   Fr/Sat 7:30\, Sun 2:00\n\n   Tickets: $32 adults\, $18 youth (ages 10-18)\n\n   Box office: 972-690-5029\n\nBroadway Favorite comes to Dallas. \n\nForever Plaid with Book by Stuart Ross and featuring all the best music from the 1950s\, including Catch A Falling Star\, Day-O\, Perfidia\, Heart And Soul\, Scotland The Brave\, Love Is A Many Splendored Thing and many more!
X-ALT-DESC;FMTTYPE=text/html:<span style="font-size:14.0pt">FOREVER PLAID-<br />\nSEPTEMBER 16-25\, 2022&nbsp\;&nbsp\;&nbsp\;&nbsp\;&nbsp\;&nbsp\;&nbsp\;&nbsp\;&nbsp\;&nbsp\;&nbsp\;&nbsp\;&nbsp\;&nbsp\;&nbsp\;&nbsp\;&nbsp\;&nbsp\;&nbsp\;&nbsp\;&nbsp\;&nbsp\;&nbsp\;&nbsp\;&nbsp\;&nbsp\;&nbsp\;&nbsp\;&nbsp\;&nbsp\;&nbsp\;&nbsp\;&nbsp\;&nbsp\;&nbsp\;&nbsp\;&nbsp\;&nbsp\;&nbsp\;&nbsp\;&nbsp\;&nbsp\;&nbsp\;&nbsp\;&nbsp\;&nbsp\;&nbsp\;&nbsp\;&nbsp\;&nbsp\;&nbsp\;&nbsp\;&nbsp\;&nbsp\;&nbsp\;&nbsp\;&nbsp\;&nbsp\;&nbsp\;&nbsp\;&nbsp\;&nbsp\;&nbsp\;&nbsp\;&nbsp\;&nbsp\;&nbsp\;&nbsp\;&nbsp\;&nbsp\;&nbsp\;&nbsp\;&nbsp\;&nbsp\;&nbsp\;&nbsp\;&nbsp\;&nbsp\; </span><br />\n<span style="font-size:14.0pt">&nbsp\;&nbsp\; Fr/Sat 7:30\, Sun 2:00</span><br />\n<span style="font-size:14.0pt">&nbsp\;&nbsp\; Tickets: $32 adults\, $18 youth (ages 10-18)</span><br />\n<span style="font-size:14.0pt">&nbsp\;&nbsp\; Box office: 972-690-5029</span><br />\n<span style="font-size:14.0pt">Broadway Favorite comes to Dallas. </span><br />\n<em>Forever Plaid</em> with Book by Stuart Ross and featuring all the best music from the 1950s\, including <em>Catch A Falling Star\, Day-O\, Perfidia\, Heart And Soul\, Scotland The Brave\, Love Is A Many Splendored Thing</em>&nbsp\;and many more!<br />\n&nbsp\;
LOCATION:Repertory Company Theatre 770 N Coit\, Richardson\, TX
UID:e.1719.11196
SEQUENCE:3
DTSTAMP:20260423T002148Z
URL:https://business.richardsonchamber.com/events/details/member-event-forever-plaid-11196
END:VEVENT

END:VCALENDAR
