BEGIN:VCALENDAR
VERSION:2.0
PRODID:-//ChamberMaster//Event Calendar 2.0//EN
METHOD:PUBLISH
X-PUBLISHED-TTL:P3D
REFRESH-INTERVAL:P3D
CALSCALE:GREGORIAN
BEGIN:VEVENT
DTSTART:20220527T143000Z
DTEND:20220527T153000Z
X-MICROSOFT-CDO-ALLDAYEVENT:FALSE
SUMMARY:Member Event - Breakfast & Coffee- DART Silver Line Construction Updates - May 27
DESCRIPTION:Archer Western Herzog (AWH) is hosting a construction updates breakfast at Aloft off State Street in the City Line development in Richardson\, Texas . Join us for the DART Silver Line construction activity updates in the Richardson community. AWH will cover current and upcoming construction activities.\n\nDue to limited seating at Aloft Richardson please RSVP. First come first serve.
X-ALT-DESC;FMTTYPE=text/html:<span style="letter-spacing:.4pt\;"><span style="font-family:roboto\;"><span style="font-size:12.0pt\;"><a href="https://awhsilverline.com/" target="_blank">Archer Western Herzog (AWH)</a> is hosting a construction updates breakfast at Aloft off State Street in the City Line development in Richardson\, Texas . Join us for the DART Silver Line construction activity updates in the Richardson community. AWH will cover current and upcoming construction activities.</span></span></span><br />\n<span style="letter-spacing:.4pt\;"><span style="font-family:roboto\;"><span style="font-size:12.0pt\;"><a href="https://www.eventbrite.com/e/awh-silver-line-breakfast-coffee-richardson-construction-updates-tickets-338399952367" target="_blank">Due to limited seating at Aloft Richardson please RSVP</a>. First come first serve.</span></span></span>
LOCATION:Aloft 1160 State Street Richardson\, TX 75082
UID:e.1719.11138
SEQUENCE:3
DTSTAMP:20260422T205812Z
URL:https://business.richardsonchamber.com/events/details/member-event-breakfast-coffee-dart-silver-line-construction-updates-may-27-11138
END:VEVENT

END:VCALENDAR
