BEGIN:VCALENDAR
VERSION:2.0
PRODID:-//ChamberMaster//Event Calendar 2.0//EN
METHOD:PUBLISH
X-PUBLISHED-TTL:P3D
REFRESH-INTERVAL:P3D
CALSCALE:GREGORIAN
BEGIN:VEVENT
DTSTART:20241017T223000Z
DTEND:20241018T003000Z
X-MICROSOFT-CDO-ALLDAYEVENT:FALSE
SUMMARY:Member Connections - Assurnet Insurance Agency - Oct 17
DESCRIPTION:Join us for an evening of networking and fun at our Member Connections Happy Hour on the Assurnet Insurance Agency lawn. Enjoy live music\, light bites\, drinks\, and more! Register today
X-ALT-DESC;FMTTYPE=text/html:Join us for an evening of networking and fun at our Member Connections Happy Hour on the Assurnet Insurance Agency lawn. Enjoy live music\, light bites\, drinks\, and more! Register today&nbsp\;
LOCATION:Assurnet Insurance Agency 833 E. Arapaho Rd Ste 107 Richardson\, TX 75081
UID:e.1719.12473
SEQUENCE:3
DTSTAMP:20260422T034911Z
URL:https://business.richardsonchamber.com/events/details/member-connections-assurnet-insurance-agency-oct-17-12473
END:VEVENT

END:VCALENDAR
