BEGIN:VCALENDAR
VERSION:2.0
PRODID:-//ChamberMaster//Event Calendar 2.0//EN
METHOD:PUBLISH
X-PUBLISHED-TTL:P3D
REFRESH-INTERVAL:P3D
CALSCALE:GREGORIAN
BEGIN:VEVENT
DTSTART:20220517T230000Z
DTEND:20220518T000000Z
X-MICROSOFT-CDO-ALLDAYEVENT:FALSE
SUMMARY:Medicare 101 with Tasha Manning - Member Event
DESCRIPTION:If you're newly eligible for Medicare or turning 65\, please join us for a Medicare educational workshop in your neighborhood! The more you know\, the more prepared you'll be to evaluate benefits and costs\, and choose the plan that's right for you.\n\n  Medicare Parts A\, B\, C and D\, and what they cover\n\n  When you can enroll\n\n  Medicare options\n\n  Eligibility\n\nHumana does what's necessary to help you get the care you need. That's human care\, and it's part of everything Humana does.
X-ALT-DESC;FMTTYPE=text/html:If you&rsquo\;re newly eligible for Medicare or turning 65\, please join us for a Medicare educational workshop in your neighborhood! The more you know\, the more prepared you&rsquo\;ll be to evaluate benefits and costs\, and choose the plan that&rsquo\;s right for you.<br />\n&bull\; Medicare Parts A\, B\, C and D\, and what they cover<br />\n&bull\; When you can enroll<br />\n&bull\; Medicare options<br />\n&bull\; Eligibility<br />\nHumana does what&rsquo\;s necessary to help you get the care you need. That&rsquo\;s human care\, and it&rsquo\;s part of everything Humana does.
LOCATION:Aboca's Italian Grill 100 S Central Expy Suite 63\, Richardson\, TX 75080
UID:e.1719.10124
SEQUENCE:3
DTSTAMP:20260422T205905Z
URL:https://business.richardsonchamber.com/events/details/medicare-101-with-tasha-manning-member-event-10124
END:VEVENT

END:VCALENDAR
