BEGIN:VCALENDAR
VERSION:2.0
PRODID:-//ChamberMaster//Event Calendar 2.0//EN
METHOD:PUBLISH
X-PUBLISHED-TTL:P3D
REFRESH-INTERVAL:P3D
CALSCALE:GREGORIAN
BEGIN:VEVENT
DTSTART:20230627T131500Z
DTEND:20230627T143000Z
X-MICROSOFT-CDO-ALLDAYEVENT:FALSE
SUMMARY:Local Business Resource Roundup
DESCRIPTION:You spoke\, we listened! Please join us for the Local Business Resource Roundup   a networking and information sharing event designed to connect you and your business with valuable (and existing) community resources. Featuring a dynamic lineup of speakers\, this program promises to be an excellent chance to forge valuable partnerships and build a strong support network. Don't miss this opportunity! Register today! \n\n\n\nSpeakers: \n\nBob Barrese\, SCORE Dallas volunteer \n\nCody Gibbs\, University of Texas at Dallas\n\nJenny Mizutowicz\, Economic Development Director\, City of Richardson \n\nKim Quirk\, CEO\, Richardson Chamber of Commerce \n\nDART
X-ALT-DESC;FMTTYPE=text/html:You spoke\, we listened! Please join us for the Local Business Resource Roundup &ndash\; a networking and information sharing event designed to connect you and your business with valuable (and existing) community resources. Featuring a dynamic lineup of speakers\, this program promises to be an excellent chance to forge valuable partnerships and build a strong support network. Don&rsquo\;t miss this opportunity! Register today!&nbsp\;<br />\n<br />\nSpeakers:&nbsp\;<br />\nBob Barrese\, SCORE Dallas volunteer&nbsp\;<br />\nCody Gibbs\, University of Texas at Dallas<br />\nJenny Mizutowicz\, Economic Development Director\, City of Richardson&nbsp\;<br />\nKim Quirk\, CEO\, Richardson Chamber of Commerce&nbsp\;<br />\nDART
LOCATION:The IQHQ 1302 E. Collins Blvd.
UID:e.1719.12021
SEQUENCE:3
DTSTAMP:20260421T081858Z
URL:https://business.richardsonchamber.com/events/details/local-business-resource-roundup-12021
END:VEVENT

END:VCALENDAR
