BEGIN:VCALENDAR
VERSION:2.0
PRODID:-//ChamberMaster//Event Calendar 2.0//EN
METHOD:PUBLISH
X-PUBLISHED-TTL:P3D
REFRESH-INTERVAL:P3D
CALSCALE:GREGORIAN
BEGIN:VEVENT
DTSTART:20201217T233000Z
DTEND:20201218T003000Z
X-MICROSOFT-CDO-ALLDAYEVENT:FALSE
SUMMARY:*Homebuyer's seminar\, Pioneer Bank\, Dec. 17
DESCRIPTION:Dreaming of a home for Christmas?  On December 17\, 2020 from 5:30-6:30 new & potential home buyers are invited to a Zoom meeting to learn about programs\, offered by city and state\, that help with down payment assistance & more. The programs may assist with Fixed Rate Loans\, Down Payment Assistance\, Manufactured Home Financing & Homes for Heroes. You may also qualify for a special tax credit that reduces your federal income taxes.\n*Attendees will be entered into a drawing for a door prize provided by Stewart Title Company.*
X-ALT-DESC;FMTTYPE=text/html:Dreaming of a home for Christmas?&nbsp\; On December 17\, 2020 from 5:30-6:30 new &amp\; potential home buyers are invited to a&nbsp\;Zoom meeting to learn about programs\, offered by city and state\, that help with down payment assistance &amp\; more. The programs may assist with Fixed Rate Loans\, Down Payment Assistance\, Manufactured Home Financing &amp\; Homes for Heroes. You may also qualify for a special tax credit that reduces your federal income taxes.\n<p>*Attendees will be entered into a drawing for a door prize provided by Stewart Title Company.*</p>\n
LOCATION:Online via Zoom
UID:e.1719.8621
SEQUENCE:3
DTSTAMP:20260422T072430Z
URL:https://business.richardsonchamber.com/events/details/homebuyer-s-seminar-pioneer-bank-dec-17-8621
END:VEVENT

END:VCALENDAR
