BEGIN:VCALENDAR
VERSION:2.0
PRODID:-//ChamberMaster//Event Calendar 2.0//EN
METHOD:PUBLISH
X-PUBLISHED-TTL:P3D
REFRESH-INTERVAL:P3D
CALSCALE:GREGORIAN
BEGIN:VEVENT
DTSTART:20201105T233000Z
DTEND:20201106T003000Z
X-MICROSOFT-CDO-ALLDAYEVENT:FALSE
SUMMARY:*Homebuyer down payment assistance\, Pioneer Bank\, Nov. 5
DESCRIPTION:Event description\n\n\n\n\nReady to buy a home? Attend our Homebuyer Down Payment Assistance Program Zoom Call!\n\n\n \n\n\n\n\n\n \n\n\nAbout this Event\n\n\n\nJoin us in a zoom meeting for current and potential home buyers to find out about programs that help with down payment assistance and more!\n\n\n\nDon't wait! Register with Pioneer Bank by calling Melody Terry at 972-437-2888 or by e-mail at Melody.terry@pioneer.bank
X-ALT-DESC;FMTTYPE=text/html:<div>\n<div>\n<div>\n<div>\n<div>Event description</div>\n\n<div>\n<div>\n<div>\n<div><strong>Ready to buy a home? Attend our Homebuyer Down Payment Assistance Program Zoom Call!</strong></div>\n</div>\n\n<div>&nbsp\;</div>\n</div>\n</div>\n</div>\n\n<div>\n<div>&nbsp\;</div>\n\n<div>\n<h2>About this Event</h2>\n\n<div>\n<div>\n<p>Join us in a zoom meeting for current and potential home buyers to find out about programs that help with down payment assistance and more!</p>\n</div>\n\n<div>\n<p>Don&rsquo\;t wait! Register with Pioneer Bank by calling Melody Terry at 972-437-2888 or by e-mail at Melody.terry@pioneer.bank</p>\n</div>\n</div>\n</div>\n</div>\n</div>\n</div>\n</div>\n
LOCATION:Virtual via Zoom
UID:e.1719.8597
SEQUENCE:3
DTSTAMP:20260422T072552Z
URL:https://business.richardsonchamber.com/events/details/homebuyer-down-payment-assistance-pioneer-bank-nov-5-8597
END:VEVENT

END:VCALENDAR
