BEGIN:VCALENDAR
VERSION:2.0
PRODID:-//ChamberMaster//Event Calendar 2.0//EN
METHOD:PUBLISH
X-PUBLISHED-TTL:P3D
REFRESH-INTERVAL:P3D
CALSCALE:GREGORIAN
BEGIN:VEVENT
DTSTART:20201209T190000Z
DTEND:20201209T210000Z
X-MICROSOFT-CDO-ALLDAYEVENT:FALSE
SUMMARY:*Holiday thank you\, El Dorado\, Dec. 9
DESCRIPTION:the El Dorado Richardson is warmly greeting Chamber members to say "Thank You "
X-ALT-DESC;FMTTYPE=text/html:the El Dorado Richardson is warmly greeting Chamber members to say &quot\;Thank You &quot\;
LOCATION:714 west arapaho road\, Richardson Texas 75080
UID:e.1719.8619
SEQUENCE:3
DTSTAMP:20260422T072327Z
URL:https://business.richardsonchamber.com/events/details/holiday-thank-you-el-dorado-dec-9-8619
END:VEVENT

END:VCALENDAR
