BEGIN:VCALENDAR
VERSION:2.0
PRODID:-//ChamberMaster//Event Calendar 2.0//EN
METHOD:PUBLISH
X-PUBLISHED-TTL:P3D
REFRESH-INTERVAL:P3D
CALSCALE:GREGORIAN
BEGIN:VEVENT
DTSTART:20201009T190000Z
DTEND:20201009T203000Z
X-MICROSOFT-CDO-ALLDAYEVENT:FALSE
SUMMARY:Health & Wellness Virtual Expo - Oct 9
DESCRIPTION:The Richardson Chamber of Commerce is holding its annual\, first ever virtual Health and Wellness Expo. Presented by Methodist Richardson Medical Center and Celebration Magazine from 2 p.m. - 3:30 p.m. Oct. 9 & 16 on zoom. The FREE  virtual event informs consumers about products and services available from Chamber members that encourage good health and fitness\, increase mobility\, address special needs care\, nutritional insight\, and insurance options. So\, make plans to login for some valuable information and for a chance to win fantastic prizes as well as $ e-gift cards! Must register for zoom link and to receive prizes.  \n\n\n\nPresenting Sponsor:\n\nMethodist Richardson Medical Center\n\n\n\nPlatinum Sponsor:\n\nCelebration Magazine\n\nUnited Healthcare\n\nOncor\n\n\n\nGold Sponsors Include:\n\nHome Health Care of Richardson \n\nAppletree Court Senior Living\n\nCare N Care Insurance Company\n\nTexans Credit Union \n\nTwin Rivers Senior Living \n\nDallas Nephrology Associates\n\nChildren's Health \n\nThe Bridgemoor at Plano \n\n_________________________________\n\nHarrington Insurance Solutions\n\nRichardson Bike Mart \n\nSynexus
X-ALT-DESC;FMTTYPE=text/html:<span style="font-family:calibri\,sans-serif\;"><span style="font-size:14.0pt\;">The Richardson Chamber of Commerce is holding its annual\, first ever <strong>virtual Health and Wellness Expo.</strong>&nbsp\;Presented by Methodist Richardson Medical Center and Celebration Magazine from 2 p.m. - 3:30 p.m. <strong>Oct.&nbsp\;</strong></span></span><span style="font-family:calibri\,sans-serif\;"><span style="font-size:14.0pt\;"><strong>9 &amp\; 16 on zoom.</strong> The <strong>FREE</strong>&nbsp\; virtual event informs consumers about products and services available from Chamber members that encourage good health and fitness\, increase mobility\, address special needs care\, nutritional insight\, and insurance options.&nbsp\;So\, make plans to login for some valuable information and for a chance to <strong>win fantastic prizes as well as $ e-gift cards!</strong>&nbsp\;Must register for zoom link and to receive prizes.&nbsp\;&nbsp\;</span></span><br />\n<br />\n<strong>Presenting Sponsor:</strong><br />\n<span style="font-size:16px\;"><a href="https://www.methodisthealthsystem.org/methodist-richardson-medical-center/">Methodist Richardson Medical Center</a></span><br />\n<br />\n<strong>Platinum Sponsor:</strong><br />\n<span style="font-size:14px\;"><a href="https://www.celebrationmagazine.com/?gclid=EAIaIQobChMIqbi0h5-U6wIV5Y1bCh13JQCnEAAYASAAEgJ-r_D_BwE">Celebration Magazine</a></span><br />\n<a font-size:="" href="http://www.myuhcagent.com/judy.olson" style="color: rgb(7\, 130\, 193)\; font-family: sans-serif\, Arial\, Verdana\, " trebuchet="">United Healthcare</a><br />\n<a href="https://www.oncor.com/SitePages/Home.aspx">Oncor</a><br />\n<br />\n<strong>Gold Sponsors Include:</strong><br />\nHome Health Care of Richardson&nbsp\;<br />\nAppletree Court Senior Living<br />\nCare N Care Insurance Company<br />\nTexans Credit Union&nbsp\;<br />\nTwin Rivers Senior Living&nbsp\;<br />\nDallas Nephrology Associates<br />\nChildren&#39\;s Health&nbsp\;<br />\nThe Bridgemoor at Plano&nbsp\;<br />\n_________________________________<br />\nHarrington Insurance Solutions<br />\nRichardson Bike Mart&nbsp\;<br />\nSynexus&nbsp\;<br />\n<br />\n<br />\n<span style="font-family:calibri\,sans-serif\;"><span style="font-size:11.0pt\;">&nbsp\;<br />\n&nbsp\;</span></span>
LOCATION:Virtual Event: Zoom Link for Zoom meeting will be included in registration confirmation email
UID:e.1719.8320
SEQUENCE:3
DTSTAMP:20260422T053654Z
URL:https://business.richardsonchamber.com/events/details/health-wellness-virtual-expo-oct-9-8320
END:VEVENT

END:VCALENDAR
