BEGIN:VCALENDAR
VERSION:2.0
PRODID:-//ChamberMaster//Event Calendar 2.0//EN
METHOD:PUBLISH
X-PUBLISHED-TTL:P3D
REFRESH-INTERVAL:P3D
CALSCALE:GREGORIAN
BEGIN:VEVENT
DTSTART:20180531T220000Z
DTEND:20180601T000000Z
X-MICROSOFT-CDO-ALLDAYEVENT:FALSE
SUMMARY:*Happy Hour\, The Drawing Board\, May 31
DESCRIPTION:Champion Networking Alliance's quarterly happy hour is here! Come out for a night of free food\, drinks\, and meet other great local businesses! \n\n\n\nBe sure to RSVP so we can get an accurate headcount and invite all the business owners and freelancers you know!\n\n\n\nhttps://www.facebook.com/events/242093713196618/
X-ALT-DESC;FMTTYPE=text/html:<span style="color:rgb(75\, 79\, 86)\; font-family:helvetica\,arial\,sans-serif\; font-size:14px">Champion Networking Alliance&#39\;s quarterly happy hour is here! Come out for a night of free food\, drinks\, and meet other great local businesses!&nbsp\;</span><br />\n<br />\n<span style="color:rgb(75\, 79\, 86)\; font-family:helvetica\,arial\,sans-serif\; font-size:14px">Be sure to RSVP so we can get an accurate headcount and invite all the business owners and freelancers you know!</span><br />\n<br />\nhttps://www.facebook.com/events/242093713196618/&nbsp\;
LOCATION:THE DRAWING BOARD 1900 Jay Ell Drive Richardson\, TX 75081
UID:e.1719.6248
SEQUENCE:3
DTSTAMP:20260422T102952Z
URL:https://business.richardsonchamber.com/events/details/happy-hour-the-drawing-board-may-31-6248
END:VEVENT

END:VCALENDAR
