BEGIN:VCALENDAR
VERSION:2.0
PRODID:-//ChamberMaster//Event Calendar 2.0//EN
METHOD:PUBLISH
X-PUBLISHED-TTL:P3D
REFRESH-INTERVAL:P3D
CALSCALE:GREGORIAN
BEGIN:VEVENT
DTSTART:20220806T153000Z
DTEND:20220806T180000Z
X-MICROSOFT-CDO-ALLDAYEVENT:FALSE
SUMMARY:Grand Opening of Kiddie Academy Far North Dallas
DESCRIPTION:Come to celebrate with us at the GRAND OPENING EVENT at Kiddie Academy of Far North Dallas!  Join us for fair food\, fun activities\, and refreshments!
X-ALT-DESC;FMTTYPE=text/html:Come to celebrate with us at the GRAND OPENING EVENT at Kiddie Academy of Far North Dallas!&nbsp\;&nbsp\;Join us for fair food\, fun activities\, and refreshments!
LOCATION:Kiddie Academy of Far North Dallas 6220 Mc Callum Blvd Dallas Tx 75248
UID:e.1719.11172
SEQUENCE:3
DTSTAMP:20260422T205954Z
URL:https://business.richardsonchamber.com/events/details/grand-opening-of-kiddie-academy-far-north-dallas-11172
END:VEVENT

END:VCALENDAR
