BEGIN:VCALENDAR
VERSION:2.0
PRODID:-//ChamberMaster//Event Calendar 2.0//EN
METHOD:PUBLISH
X-PUBLISHED-TTL:P3D
REFRESH-INTERVAL:P3D
CALSCALE:GREGORIAN
BEGIN:VEVENT
DTSTART;VALUE=DATE:20191029
DTEND;VALUE=DATE:20191030
TRANSP:TRANSPARENT
X-MICROSOFT-CDO-ALLDAYEVENT:TRUE
SUMMARY:Golf Classic - Oct. 29
DESCRIPTION:The 32nd Annual Golf Classic is more than just a day of golf. Some of the biggest business deals and job offers are made on the golf course. The Chamber Golf Classic helps you connect with current and potential clients\, suppliers\, employees and employers. \n\n\n\nHeld at the secluded course at Canyon Creek Country Club in Richardson\, this year's golf classic includes lunch before play\, and an awards happy hour and networking along with tournament and contest prizes as well as raffle drawings.  We are bringing back the popular Air Cannon\, where you can launch your golf ball down the course.  \n\n\n\nSponsorship opportunities are available!
X-ALT-DESC;FMTTYPE=text/html:The 32nd Annual Golf Classic is more than just a day of golf. Some of the biggest business deals and job offers are made on the golf course. The Chamber Golf Classic helps you connect with current and potential clients\, suppliers\, employees and employers.&nbsp\;<br />\n<br />\nHeld at the secluded course at Canyon Creek Country Club in Richardson\, this year&#39\;s golf classic includes lunch before play\, and an awards happy hour and networking along with tournament and contest prizes as well as raffle drawings.&nbsp\; We are bringing back the popular Air Cannon\, where you can launch your golf ball down the course.&nbsp\;&nbsp\;<br />\n<br />\n<a href="https://chambermaster.blob.core.windows.net/userfiles/UserFiles/chambers/1719/File/RCCGolfTourney2019.pdf" target="_blank">Sponsorship </a>opportunities are available!
LOCATION:Canyon Creek Country Club 625 W Lookout Drive Richardson\, TX 75080
UID:e.1719.6747
SEQUENCE:3
DTSTAMP:20260420T115926Z
URL:https://business.richardsonchamber.com/events/details/golf-classic-oct-29-6747
END:VEVENT

END:VCALENDAR
