BEGIN:VCALENDAR
VERSION:2.0
PRODID:-//ChamberMaster//Event Calendar 2.0//EN
METHOD:PUBLISH
X-PUBLISHED-TTL:P3D
REFRESH-INTERVAL:P3D
CALSCALE:GREGORIAN
BEGIN:VEVENT
DTSTART:20150401T121500Z
DTEND:20150401T133000Z
X-MICROSOFT-CDO-ALLDAYEVENT:FALSE
SUMMARY:Early Net - April 1
DESCRIPTION:Early Net is our early morning networking/referral group and meets every Wednesday morning from 7:15-8:30 at the Hilton Garden Inn Dallas/Richardson\n\n \n\nCost is $11 for breakfast buffet or $5 for a continental breakfast\, door prizes and plenty of networking.\n\n \n\nEach attendee is allowed to give a 30-second commercial on who they are and what they do. This is a great way to introduce your business to potential new customers & vendors and build your personal business network. See you there!
X-ALT-DESC;FMTTYPE=text/html:<div>Early Net is our early morning networking/referral group and meets every Wednesday morning from 7:15-8:30 at the Hilton Garden Inn Dallas/Richardson<br />\n&nbsp\;</div>\n\n<div>Cost is $11 for&nbsp\;breakfast buffet or $5 for a continental breakfast\, door prizes and plenty of networking.<br />\n&nbsp\;</div>\n\n<div>Each attendee is allowed to give a 30-second commercial on who they are and what they do. This is a great way to introduce your business to potential new customers &amp\; vendors and build your personal business network. See you there!</div>\n
LOCATION:Hilton Garden Inn Dallas/Richardson 1001 W. President George Bush Turnpike\, Richardson 75080
UID:e.1719.2741
SEQUENCE:3
DTSTAMP:20260424T224352Z
URL:https://business.richardsonchamber.com/events/details/early-net-april-1-04-01-2015-2741
END:VEVENT

END:VCALENDAR
