BEGIN:VCALENDAR
VERSION:2.0
PRODID:-//ChamberMaster//Event Calendar 2.0//EN
METHOD:PUBLISH
X-PUBLISHED-TTL:P3D
REFRESH-INTERVAL:P3D
CALSCALE:GREGORIAN
BEGIN:VEVENT
DTSTART;VALUE=DATE:20230128
DTEND;VALUE=DATE:20230129
TRANSP:TRANSPARENT
X-MICROSOFT-CDO-ALLDAYEVENT:TRUE
SUMMARY:Creating a yes/and Life - Community Event
DESCRIPTION:You are cordially invited to join Larry Leon and Lori Darley for an interactive and fun training experience called "Creating a Yes/And Life" on Saturday\, January 28\, 2023 from 9:30 AM to 5:00 PM CST at Hexa Coworking (2100 N Greenville Avenue\, Richardson\, TX 75082).\n\n \n\nDuring this 7.5 hour workshop\, we will play live games designed to ignite your creativity\, positivity\, and innovation to empower a life you love. By training ourselves to operate in a positive and creative space\, we gain greater control over how we experience and design our lives. Lunch is included.\n\n \n\nTo request a refund\, please contact the organizer. Eventbrite's fee is nonrefundable.\n\n \n\nWe hope you can join us for this playful and powerful adventure!\n\n \n\nhttps://www.eventbrite.com/e/creating-a-yesand-life-tickets-493939074067
X-ALT-DESC;FMTTYPE=text/html:<span style="color:black"><span style="font-size:12.0pt">You are cordially invited to join Larry Leon and Lori Darley for an interactive and fun training experience called &quot\;Creating a Yes/And Life&quot\; on Saturday\, January 28\, 2023 from 9:30 AM to 5:00 PM CST at Hexa Coworking (2100 N Greenville Avenue\, Richardson\, TX 75082).</span></span><br />\n&nbsp\;<br />\n<span style="color:black"><span style="font-size:12.0pt">During this 7.5 hour workshop\, we will play live games designed to ignite your creativity\, positivity\, and innovation to empower a life you love. By training ourselves to operate in a positive and creative space\, we gain greater control over how we experience and design our lives. Lunch is included.</span></span><br />\n&nbsp\;<br />\n<span style="color:black"><span style="font-size:12.0pt">To request a refund\, please contact the organizer. Eventbrite&#39\;s fee is nonrefundable.</span></span><br />\n&nbsp\;<br />\n<span style="color:black"><span style="font-size:12.0pt">We hope you can join us for this playful and powerful adventure!</span></span><br />\n&nbsp\;<br />\n<span style="color:black"><span style="font-size:12.0pt"><a href="https://www.eventbrite.com/e/creating-a-yesand-life-tickets-493939074067">https://www.eventbrite.com/e/creating-a-yesand-life-tickets-493939074067</a></span></span><br />\n&nbsp\;
LOCATION:Hexa Event Center 2100 N. Greenville Ave. Richardson\, TX. 75082
UID:e.1719.11855
SEQUENCE:3
DTSTAMP:20260423T073419Z
URL:https://business.richardsonchamber.com/events/details/creating-a-yes-and-life-community-event-11855
END:VEVENT

END:VCALENDAR
