BEGIN:VCALENDAR
VERSION:2.0
PRODID:-//ChamberMaster//Event Calendar 2.0//EN
METHOD:PUBLISH
X-PUBLISHED-TTL:P3D
REFRESH-INTERVAL:P3D
CALSCALE:GREGORIAN
BEGIN:VEVENT
DTSTART:20241107T000000Z
DTEND:20241107T020000Z
X-MICROSOFT-CDO-ALLDAYEVENT:FALSE
SUMMARY:Community Event - Wellness Wednesday at TARI
DESCRIPTION:The first Wednesday of every month is Wellness Wednesday at Texas Acupuncture Research Institute! Come by for a de-stress acupuncture meditation and fellowship! We use a technique that allows you to fully relax within minutes\, followed by a meditation to extend the wellness experience.\n\nPeople who attend call it their 'oasis of calm for the month' so come join us this Wednesday. You'll be glad you did!
X-ALT-DESC;FMTTYPE=text/html:The first Wednesday of every month is Wellness Wednesday at Texas Acupuncture Research Institute! Come by for a de-stress acupuncture meditation and fellowship! We use a technique that allows you to fully relax within minutes\, followed by a meditation to extend the wellness experience.<br />\nPeople who attend call it their &#39\;oasis of calm for the month&#39\; so come join us this Wednesday. You&#39\;ll be glad you did!<br />\n&nbsp\;
LOCATION:1651 North Collins Blvd\, Ste 130 Richardson TX 75080
UID:e.1719.12499
SEQUENCE:3
DTSTAMP:20260421T205824Z
URL:https://business.richardsonchamber.com/events/details/community-event-wellness-wednesday-at-tari-12499
END:VEVENT

END:VCALENDAR
