BEGIN:VCALENDAR
VERSION:2.0
PRODID:-//ChamberMaster//Event Calendar 2.0//EN
METHOD:PUBLISH
X-PUBLISHED-TTL:P3D
REFRESH-INTERVAL:P3D
CALSCALE:GREGORIAN
BEGIN:VEVENT
DTSTART:20260424T200000Z
DTEND:20260424T210000Z
X-MICROSOFT-CDO-ALLDAYEVENT:FALSE
SUMMARY:Community Event - The Caregiving Journey Webinar
DESCRIPTION:Preparing to Be a Caregiver Featuring Isabel Melgarejo (Tum Coeur)\, Traci Steelman (Raymond James Financial Services)\, and Arriel Balogun (Infinitely Elevated) Caregiving isn't something Google truly prepares you for   emotionally\, financially\, or logistically. Join our expert panel as we discuss the real-life challenges of caregiving\, navigating hard conversations\, setting boundaries\, and managing the pressures of the "sandwich generation." You'll leave with practical steps you can take now to prepare yourself and your family. Topics include: Mindset shifts for difficult family conversations Handling guilt\, grief\, resentment\, and boundaries Budgeting\, prioritizing needs\, and long-term planning Real stories and guidance from each speaker When and how to ask for support Who should attend: Anyone preparing to care for a parent\, loved one\, or family member   or juggling caregiving alongside work and life.
X-ALT-DESC;FMTTYPE=text/html:<span style="color:rgb(35\, 35\, 51)\; font-family:almaden sans\,helvetica\,arial\; font-size:14px">Preparing to Be a Caregiver Featuring Isabel Melgarejo (Tum Coeur)\, Traci Steelman (Raymond James Financial Services)\, and Arriel Balogun (Infinitely Elevated) Caregiving isn&rsquo\;t something Google truly prepares you for &mdash\; emotionally\, financially\, or logistically. Join our expert panel as we discuss the real-life challenges of caregiving\, navigating hard conversations\, setting boundaries\, and managing the pressures of the &ldquo\;sandwich generation.&rdquo\; You&rsquo\;ll leave with practical steps you can take now to prepare yourself and your family. Topics include: Mindset shifts for difficult family conversations Handling guilt\, grief\, resentment\, and boundaries Budgeting\, prioritizing needs\, and long-term planning Real stories and guidance from each speaker When and how to ask for support Who should attend: Anyone preparing to care for a parent\, loved one\, or family member &mdash\; or juggling caregiving alongside work and life.</span>
LOCATION:Zoom https://raymondjames.zoom.us/webinar/register/WN_td6T8cnDTI2STSVA14pwbg
UID:e.1719.13442
SEQUENCE:3
DTSTAMP:20260421T223540Z
URL:https://business.richardsonchamber.com/events/details/community-event-the-caregiving-journey-webinar-13442
END:VEVENT

END:VCALENDAR
