BEGIN:VCALENDAR
VERSION:2.0
PRODID:-//ChamberMaster//Event Calendar 2.0//EN
METHOD:PUBLISH
X-PUBLISHED-TTL:P3D
REFRESH-INTERVAL:P3D
CALSCALE:GREGORIAN
BEGIN:VEVENT
DTSTART:20240514T170000Z
DTEND:20240514T183000Z
X-MICROSOFT-CDO-ALLDAYEVENT:FALSE
SUMMARY:Community Event - Social Security Luncheon - May 14
DESCRIPTION:Please join me for a lunch presentation by Celina Chacon of the Social Security Administration to learn how your social security benefits are calculated\, how to apply\, and everything you didn't know to ask. Space is limited to 25 people\, please RSVP to traci.steelman@raymondjames.com.
X-ALT-DESC;FMTTYPE=text/html:Please join me for a lunch presentation by Celina Chacon of the Social Security Administration to learn how your social security benefits are calculated\, how to apply\, and everything you didn&rsquo\;t know to ask. Space is limited to 25 people\, please RSVP to <a href="mailto:traci.steelman@raymondjames.com">traci.steelman@raymondjames.com</a>.
LOCATION:Maggiano's Little Italy at Willow Bend 6001 W. Park Blvd. Plano\, TX 75093
UID:e.1719.12243
SEQUENCE:3
DTSTAMP:20260420T103818Z
URL:https://business.richardsonchamber.com/events/details/community-event-social-security-luncheon-may-14-12243
END:VEVENT

END:VCALENDAR
