BEGIN:VCALENDAR
VERSION:2.0
PRODID:-//ChamberMaster//Event Calendar 2.0//EN
METHOD:PUBLISH
X-PUBLISHED-TTL:P3D
REFRESH-INTERVAL:P3D
CALSCALE:GREGORIAN
BEGIN:VEVENT
DTSTART:20260308T000000Z
DTEND:20260308T040000Z
X-MICROSOFT-CDO-ALLDAYEVENT:FALSE
SUMMARY:Community Event - Richardson YMCA Cornhole Tournament
DESCRIPTION:Join us for an evening of fun\, fellowship\, and Cornhole competition! Proceeds from the event support the Richardson Family YMCA's fundraising efforts during the year.
X-ALT-DESC;FMTTYPE=text/html:<p>Join us for an evening of fun\, fellowship\, and Cornhole competition! Proceeds from the event support the Richardson Family YMCA&#39\;s fundraising efforts during the year.</p>\n
LOCATION:Where: Crossbar Soccer: 1000 Hampshire Lane\, Richardson\, TX 75080
UID:e.1719.13399
SEQUENCE:3
DTSTAMP:20260420T085028Z
URL:https://business.richardsonchamber.com/events/details/community-event-richardson-ymca-cornhole-tournament-13399
END:VEVENT

END:VCALENDAR
