BEGIN:VCALENDAR
VERSION:2.0
PRODID:-//ChamberMaster//Event Calendar 2.0//EN
METHOD:PUBLISH
X-PUBLISHED-TTL:P3D
REFRESH-INTERVAL:P3D
CALSCALE:GREGORIAN
BEGIN:VEVENT
DTSTART:20260502T190000Z
DTEND:20260502T210000Z
X-MICROSOFT-CDO-ALLDAYEVENT:FALSE
SUMMARY:Community Event - Richardson Civic Art Society Reception & Art Awards Ceremony at Eisemann
DESCRIPTION:The Awards & Reception ceremony for the Richardson Civic Arts Society's Regional Show will be held at the Eisemann Center on May 2\, 2026  from 2-4pm.  Awards will be presented at 3:30\, with the Best of Show Award being presented by Mayor Amir Omar. RCAS is celebrating their 60th year anniversary this year\, so come out and support your local artists. A wide variety of watercolors\, oils\, acrylics\, mixed media\, collage\, and photography will be on display upstairs in the Eisemann gallery.\n\nThis event is open to the public and there is no charge to attend. Refreshments provided.
X-ALT-DESC;FMTTYPE=text/html:The Awards &amp\; Reception ceremony for the Richardson Civic Arts Society&#39\;s Regional Show will be held at the Eisemann Center on May 2\, 2026&nbsp\; from 2-4pm.&nbsp\; Awards will be presented at 3:30\, with the Best of Show Award being presented by Mayor Amir Omar. RCAS is celebrating their 60th year anniversary this year\, so come out and support your local artists. A wide variety of watercolors\, oils\, acrylics\, mixed media\, collage\, and photography will be on display upstairs in the Eisemann gallery.<br />\nThis event is open to the public and there is no charge to attend. Refreshments provided.<br />\n&nbsp\;
LOCATION:Charles W. Eisemann Center\, 2351 Performance Drive\, Richardson\, TX 75082
UID:e.1719.13445
SEQUENCE:3
DTSTAMP:20260421T223514Z
URL:https://business.richardsonchamber.com/events/details/community-event-richardson-civic-art-society-reception-art-awards-ceremony-at-eisemann-13445
END:VEVENT

END:VCALENDAR
