BEGIN:VCALENDAR
VERSION:2.0
PRODID:-//ChamberMaster//Event Calendar 2.0//EN
METHOD:PUBLISH
X-PUBLISHED-TTL:P3D
REFRESH-INTERVAL:P3D
CALSCALE:GREGORIAN
BEGIN:VEVENT
DTSTART:20260514T150000Z
DTEND:20260514T190000Z
X-MICROSOFT-CDO-ALLDAYEVENT:FALSE
SUMMARY:Community Event - Randstad USA Hiring Event
DESCRIPTION:
X-ALT-DESC;FMTTYPE=text/html:
LOCATION:Richardson Chamber of Commerce 411 Belle Grove Drive Richardson\, TX 75080
UID:e.1719.13448
SEQUENCE:3
DTSTAMP:20260422T193458Z
URL:https://business.richardsonchamber.com/events/details/community-event-randstad-usa-hiring-event-13448
END:VEVENT

END:VCALENDAR
